BEGIN:VCALENDAR
VERSION:2.0
PRODID:-//wp-events-plugin.com//7.2.3.1//EN
TZID:Australia/Sydney
X-WR-TIMEZONE:Australia/Sydney
BEGIN:VEVENT
UID:503@unswoc.org
DTSTART:20140724T203000Z
DTEND:20140724T230000Z
DTSTAMP:20140723T171942Z
URL:https://unswoc.org/wordpress/events/test-trip-5/
SUMMARY:Test Trip
DESCRIPTION:Hey Everyone!
CATEGORIES:Outdoor Climbing,Social Event
LOCATION:\, \, 
X-APPLE-STRUCTURED-LOCATION;VALUE=URI;X-ADDRESS=\, ;X-APPLE-RADIUS=100;X-TI
 TLE=:geo:0,0
END:VEVENT
END:VCALENDAR