BEGIN:VCALENDAR
VERSION:2.0
PRODID:-//wp-events-plugin.com//7.2.3.1//EN
TZID:Australia/Sydney
X-WR-TIMEZONE:Australia/Sydney
BEGIN:VEVENT
UID:3410@unswoc.org
DTSTART;TZID=Australia/Sydney:20240328T000000
DTEND;TZID=Australia/Sydney:20240328T000000
DTSTAMP:20240327T101709Z
URL:https://unswoc.org/wordpress/events/test-event-please-ignore/
SUMMARY:Test event please ignore
DESCRIPTION:
LOCATION:https://goo.gl/maps/uXB6NEKLPUukzcdj6
END:VEVENT
BEGIN:VTIMEZONE
TZID:Australia/Sydney
X-LIC-LOCATION:Australia/Sydney
BEGIN:DAYLIGHT
DTSTART:20231001T030000
TZOFFSETFROM:+1000
TZOFFSETTO:+1100
TZNAME:AEDT
END:DAYLIGHT
END:VTIMEZONE
END:VCALENDAR