BEGIN:VCALENDAR
VERSION:2.0
PRODID:-//wp-events-plugin.com//7.2.3.1//EN
TZID:Australia/Sydney
X-WR-TIMEZONE:Australia/Sydney
BEGIN:VEVENT
UID:2258@unswoc.org
DTSTART;VALUE=DATE:20180615
DTEND;VALUE=DATE:20180616
DTSTAMP:20180615T100506Z
URL:https://unswoc.org/wordpress/events/test-5/
SUMMARY:test
DESCRIPTION:hbjhbkbjbkjnmbm\,m
END:VEVENT
END:VCALENDAR