BEGIN:VCALENDAR
VERSION:2.0
PRODID:-//wp-events-plugin.com//7.2.3.1//EN
TZID:Australia/Sydney
X-WR-TIMEZONE:Australia/Sydney
BEGIN:VEVENT
UID:316@unswoc.org
DTSTART:20131009T130000Z
DTEND:20131009T130000Z
DTSTAMP:20131010T160701Z
URL:https://unswoc.org/wordpress/events/test-4/
SUMMARY:test
DESCRIPTION:test
CATEGORIES:Backcountry
LOCATION:\, \, 
X-APPLE-STRUCTURED-LOCATION;VALUE=URI;X-ADDRESS=\, ;X-APPLE-RADIUS=100;X-TI
 TLE=:geo:0,0
END:VEVENT
END:VCALENDAR