BEGIN:VCALENDAR
VERSION:2.0
PRODID:-//wp-events-plugin.com//7.2.3.1//EN
TZID:Australia/Sydney
X-WR-TIMEZONE:Australia/Sydney
BEGIN:VEVENT
UID:2415@unswoc.org
DTSTART;VALUE=DATE:20190526
DTEND;VALUE=DATE:20190602
DTSTAMP:20190523T093836Z
URL:https://unswoc.org/wordpress/events/term-break-araps-funsies/
SUMMARY:Term-break araps funsies
DESCRIPTION:Need a break from trimesters nightmare? Organise a ride and gea
 r and come join us at the pine valley campground at Arapiles. We will head
  back just before t2 starts.\n\nxoxo\n\nhenry and jeff
CATEGORIES:Outdoor Climbing
END:VEVENT
END:VCALENDAR