BEGIN:VCALENDAR
VERSION:2.0
PRODID:-//wp-events-plugin.com//7.2.3.1//EN
TZID:Australia/Sydney
X-WR-TIMEZONE:Australia/Sydney
BEGIN:VEVENT
UID:3662@unswoc.org
DTSTART;TZID=Australia/Sydney:20250918T180000
DTEND;TZID=Australia/Sydney:20250918T210000
DTSTAMP:20250916T095951Z
URL:https://unswoc.org/wordpress/events/term-3-welcome-bbq/
SUMMARY:Term 3 - Welcome BBQ!!!
DESCRIPTION:Calling all new (and old) members get ready for this terms welc
 ome to the club barbecue al the ledge!! (No signup required)\n\nCome join 
 us from 6:00 at The Ledge Climbing Centre for some climbing and a sausage 
 sizzle (with vegan and gluten free options)\n\nEntry as a member of the cl
 ub is $8 with shoe hire available at both the gear cupboard ($5/3 weeks) a
 nd at the ledge ($6).\n\nAnd don’t worry if you’ve never climbed befor
 e\, we’ll be running belay and climbing induction for anyone who is tryi
 ng it out for the first time.\n\nSo what are you waiting for\, see you the
 re!
CATEGORIES:Indoor Climbing,Social Event
LOCATION:https://maps.app.goo.gl/FoYTCG8ykL9MciKo8?g_st=ipc
END:VEVENT
BEGIN:VTIMEZONE
TZID:Australia/Sydney
X-LIC-LOCATION:Australia/Sydney
BEGIN:STANDARD
DTSTART:20250406T020000
TZOFFSETFROM:+1100
TZOFFSETTO:+1000
TZNAME:AEST
END:STANDARD
END:VTIMEZONE
END:VCALENDAR