BEGIN:VCALENDAR
VERSION:2.0
PRODID:-//wp-events-plugin.com//7.2.3.1//EN
TZID:Australia/Sydney
X-WR-TIMEZONE:Australia/Sydney
BEGIN:VEVENT
UID:3586@unswoc.org
DTSTART;TZID=Australia/Sydney;VALUE=DATE:20250614
DTEND;TZID=Australia/Sydney;VALUE=DATE:20250616
DTSTAMP:20250615T033048Z
URL:https://unswoc.org/wordpress/events/term-2-training-weekend-14th-15th-
 june/
SUMMARY:Term 2 - Training Weekend 14th-15th JUNE
DESCRIPTION:Edit for recordkeeping purposes: This event was run as a single
 -day event on the 14th June\, at "Lower Tier" crag in Dural\, covering Cli
 mbing and Caving skills. Pics from the day here - https://www.instagram.co
 m/p/DK6An4dyJrw/ .\n\n\n\nHey guys\,In Week 2 of Term 2\, we're gonna run 
 a Skills based training weekend. Our aim is to to upskill our TL’s and T
 LIT’s on skills required to lead trips\, including skills from basic rop
 ework to vertical rescue.****Note\, this event is still undergoing changes
  to its more spesific detailes. Stay posted for the most current info.\n\n
 Details\nThe weekend will follow the rough format below\, with majority of
  the theory occurring on Saturday. We'll then give you the chance to pract
 ice these skills out on the rock or in a canyon on Sunday.\n\n&nbsp\;\n\nB
 elow is a rough guide as to what workshops may run. Ofcourse it depends on
  the trainers avalibilities. Subject to change...\n\n\n\n\n\nSaturday 1st\
 nSunday 2nd\n\n\nCanyoning Lvl 1 Workshop\nClimbing Lvl 1 Workshop\nCanyon
 ing Lvl 1 Workshop\nClimbing Lvl 1 Workshop\n\n\nCanyoning Lvl 2 Workshop\
 nClimbing Lvl 2 Workshop\nCanyoning Lvl 2 Workshop\nClimbing Lvl 2 Worksho
 p\n\n\n\n&nbsp\;\n\n&nbsp\;\n\nParticipants will be assigned a group based
  on their response to the Trip Leader Progression Form\, and will stay w
 ith their group the entire weekend.\n\nAn outline of the skills in each le
 vel can be found here UNSWOC Trip Leader Skillsets V2.\n\nThe format of e
 ach two day workshop is up to the discretion of the TLs running the worksh
 ops\, and could include clifftop workshops\, at location scenarios\, or wo
 rkshops at the campsite.\n\nNumber of participants depends on the number o
 f TL’s available to help run the workshops.\n\n&nbsp\;\n\nLocation still
  TBC\, but most likly at cathedral of ferns in the blue mountains\, both d
 ays. We will be camping there SAT evning aswell.\n\n&nbsp\;\n\n\nPrereadin
 g\nUNSWOC's Trip Leader Progression Format:\n\nTrip Leader Training and Pr
 ogression\n\nSkills being taught:\n\nTrip Leader Assessment Criteria\n\nGe
 neral Ropework:\n\nGeneral Rope Sports Manual V2\n\nCanyoning:\n\nCanyonin
 g Training Manual V5\n\nClimbing:\n\nVDiff\n\n&nbsp\;\n\nIn the comments:\
 n\n 	State whether you want to learn canyoning\, sport or trad climbing sk
 ills (if multiple please order them with your preference)\n 	Ensure you ha
 ve filled out the Trip Leader Progression Form\, so we can assess at what
  level you can be placed in.\n 	Give a preference for which workshop level
  you would like to attend. If it is not there\, please add your suggestion
 s!\n 	If you are available and suitable to help run a workshop.\n\n&nbsp\;
 \n\nIf you have any questions\, or if you're unsure if this training weeke
 nd is right for you\, please feel free to contact myself\, Gabriel Dickins
 on via Facebook Messenger. 
CATEGORIES:Abseiling,Canyoning,Caving,Hectic Hiking,Outdoor
 Climbing,Training
LOCATION:https://www.google.com/maps/place/Cathedral+Reserve+Camping+Ground
 s/@-33.5020685,150.3723273,15z/data=!4m10!1m2!2m1!1scathedral+of+ferns+cam
 pground!3m6!1s0x6b0d880f2c3a4669:0xbd44ae57623e5b31!8m2!3d-33.5020693!4d15
 0.3903527!15sCh1jYXRoZWRyYWwgb2YgZmVybnMgY2FtcGdyb3VuZFofIh1jYXRoZWRyYWwgb
 2YgZmVybnMgY2FtcGdyb3VuZJIBCmNhbXBncm91bmSaASRDaGREU1VoTk1HOW5TMFZKUTBGblN
 VUk9hMGt5ZUc1M1JSQULgAQD6AQQIABBI!16s%2Fg%2F11c6tt6qvh?entry=ttu&g_ep=Egoy
 MDI1MDExMC4wIKXMDSoASAFQAw%3D%3D
END:VEVENT
BEGIN:VTIMEZONE
TZID:Australia/Sydney
X-LIC-LOCATION:Australia/Sydney
BEGIN:STANDARD
DTSTART:20250406T020000
TZOFFSETFROM:+1100
TZOFFSETTO:+1000
TZNAME:AEST
END:STANDARD
END:VTIMEZONE
END:VCALENDAR