BEGIN:VCALENDAR
VERSION:2.0
PRODID:-//wp-events-plugin.com//7.2.3.1//EN
TZID:Australia/Sydney
X-WR-TIMEZONE:Australia/Sydney
BEGIN:VEVENT
UID:2594@unswoc.org
DTSTART;TZID=Australia/Sydney;VALUE=DATE:20191213
DTEND;TZID=Australia/Sydney;VALUE=DATE:20200113
DTSTAMP:20191211T221623Z
URL:https://unswoc.org/wordpress/events/tasie/
SUMMARY:Tasie
DESCRIPTION:The epic month long climbing trip to tassie!\nGoing places like
  Freycinet\, organ pipes\, ben lomond and so much more. Doing some awesome
  climbing and hiking. \nSorry this is a closed trip\, just leaving this he
 ar for administrative reasons.\nxx
END:VEVENT
BEGIN:VTIMEZONE
TZID:Australia/Sydney
X-LIC-LOCATION:Australia/Sydney
BEGIN:DAYLIGHT
DTSTART:20191006T030000
TZOFFSETFROM:+1000
TZOFFSETTO:+1100
TZNAME:AEDT
END:DAYLIGHT
END:VTIMEZONE
END:VCALENDAR