BEGIN:VCALENDAR
VERSION:2.0
PRODID:-//wp-events-plugin.com//7.2.3.1//EN
TZID:Australia/Sydney
X-WR-TIMEZONE:Australia/Sydney
BEGIN:VEVENT
UID:3710@unswoc.org
DTSTART;TZID=Australia/Sydney:20251221T000000
DTEND;TZID=Australia/Sydney:20251221T000000
DTSTAMP:20251212T030544Z
URL:https://unswoc.org/wordpress/events/t-shirt-competition/
SUMMARY:T-Shirt Competition!!
DESCRIPTION:Hey everyone!\n\nGet keen because it's time for our annual T-Sh
 irt Comp!\n\nWe're looking for a design to feature on our 2026 club shirts
 \, and potentially on other club merch for the year. Submissions will be o
 pen until 26th December. Following this you'll be able to vote for the win
 ning t-shirt design and give expressions of interest for other merch!\n\nY
 ou can find more info and submit your designs here:\nMerch Competition - 2
 025/6 - Google Forms\n\n&nbsp\;
ATTACH;FMTTYPE=image/jpeg:https://unswoc.org/wordpress/wp-content/uploads/
 2025/12/T-Shirt-Competition-is-open.png
CATEGORIES:Social Event
LOCATION:https://docs.google.com/forms/d/1Hmt3U0hYBH9y5PAHQqy2NtsjeKcvS0gXr
 Y4T5XvAn7Q/edit
END:VEVENT
BEGIN:VTIMEZONE
TZID:Australia/Sydney
X-LIC-LOCATION:Australia/Sydney
BEGIN:DAYLIGHT
DTSTART:20251005T030000
TZOFFSETFROM:+1000
TZOFFSETTO:+1100
TZNAME:AEDT
END:DAYLIGHT
END:VTIMEZONE
END:VCALENDAR