BEGIN:VCALENDAR
VERSION:2.0
PRODID:-//wp-events-plugin.com//7.2.3.1//EN
TZID:Australia/Sydney
X-WR-TIMEZONE:Australia/Sydney
BEGIN:VEVENT
UID:650@unswoc.org
DTSTART:20141126T210000Z
DTEND:20141129T050000Z
DTSTAMP:20141122T170734Z
URL:https://unswoc.org/wordpress/events/t-radical-climbing-piddo-places/
SUMMARY:T-Radical Climbing - Piddo & Places
DESCRIPTION:So! The forecast is great and Vicky and I are thinking of a tri
 p to the Blueys From Thursday morning and we'd be coming back Saturday mid
 day but stay on if ye like! Since I want to get some T-rad climbing in bef
 ore heading to Tassie. Definitely go to Mt Piddington and who knows where 
 else.\nIf there's anyone who would like to come along to learn trad\, plac
 ing gear etc. and second a bit then shoot me a message or comment :) You d
 o have to be able to lead belay.\nAnd if there's anyone who can lead trad 
 who's still in the country you should of course come too! Even for just a 
 day :D\nI don't have a car so it will be train accessible stuff unless a d
 river joins. We can camp or stay at my uncle's if there's a small-ish grou
 p of us.\n\nCheers folks\,\n\nBrendan
CATEGORIES:Outdoor Climbing,Training
LOCATION:\, \, 
X-APPLE-STRUCTURED-LOCATION;VALUE=URI;X-ADDRESS=\, ;X-APPLE-RADIUS=100;X-TI
 TLE=:geo:0,0
END:VEVENT
END:VCALENDAR