BEGIN:VCALENDAR
VERSION:2.0
PRODID:-//wp-events-plugin.com//7.2.3.1//EN
TZID:Australia/Sydney
X-WR-TIMEZONE:Australia/Sydney
BEGIN:VEVENT
UID:2877@unswoc.org
DTSTART;TZID=Australia/Sydney;VALUE=DATE:20180310
DTEND;TZID=Australia/Sydney;VALUE=DATE:20180311
DTSTAMP:20210304T233035Z
URL:https://unswoc.org/wordpress/events/sydney-outdoor-climbing/
SUMMARY:Sydney Outdoor Climbing
DESCRIPTION:To save our energy for Boree Log next weekend\, we'll be doing 
 a local trip to a Sydney crag.\n\nIn the comments please let us know your 
 climbing experience and whether there's anything in particular that you wo
 uld like to learn on the trip :)\n\nYou will need:\n\n 	Helmet\n 	Harness\
 n 	Climbing shoes\n 	Safety sling and locking carabiner for cleaning route
 s\n 	ATC and locking carabiner for belaying\n 	Food/water\n 	Sunscreen\n 	
 Backpack for the above items\n
CATEGORIES:Outdoor Climbing
END:VEVENT
BEGIN:VTIMEZONE
TZID:Australia/Sydney
X-LIC-LOCATION:Australia/Sydney
BEGIN:DAYLIGHT
DTSTART:20171001T030000
TZOFFSETFROM:+1000
TZOFFSETTO:+1100
TZNAME:AEDT
END:DAYLIGHT
END:VTIMEZONE
END:VCALENDAR