BEGIN:VCALENDAR
VERSION:2.0
PRODID:-//wp-events-plugin.com//7.2.3.1//EN
TZID:Australia/Sydney
X-WR-TIMEZONE:Australia/Sydney
BEGIN:VEVENT
UID:3515@unswoc.org
DTSTART;TZID=Australia/Sydney:20241201T100000
DTEND;TZID=Australia/Sydney:20241201T180000
DTSTAMP:20241129T171358Z
URL:https://unswoc.org/wordpress/events/sydney-intermediate-learn-to-lead-
 climbing-trip/
SUMMARY:INDOOR SESSION (RAIN): Stonehaven Intermediate/Learn to Lead Climbi
 ng Trip 1Dec'24
DESCRIPTION:CANCELLED DUE TO SATURDAY RAIN AND WET ROCK:\n\nWe will be goin
 g to St Peter's at 10am if you would like to join 😊\n\n&nbsp\;\n\n&nbsp
 \;\n\nHey keen beans!\n\nJayden and I (Nic) are stoked to be leading a cli
 mbing trip to Stonehaven next weekend on the Sunday 1st of December. Keep 
 reading to find out the secret question you'll need to answer to be accept
 ed on this trip and don't worry about the weather\, why would you even ask
 \, it'll be fine. It should be a fantastic trip.\n\nWe are looking for par
 ticipants who have a fair amount of climbing experience: have already clim
 bed indoors\, particularly lead and who knows how to lead belay\, and who 
 want to learn to lead outside. You don't need to be particularly strong\, 
 as long as you can get up routes and want to practice/learn lead climbing/
 belaying/falling\, or any combination thereof\, we'd love to have you!\n\n
 Registrations for the trip will open at 10:30am Sunday the 24th of Novembe
 r.\n\n_____________________________________________\n\nDATE: Sun 1Nov '24
             START TIME: 1000 at Stonehaven Rd dirt carpark (i.e. lea
 ving Sydney af 0900)\n\nCRAG: Stonehaven.             FINISH: ~1600
 -1800\n\nPARKING: there is a car park and street parking on/near Stonehave
 n Road.\n\n    Do not park anyone in or block a driveway when you park.\
 n\nSQ: If you could be any dog\, what breed of dog would you be?\n\n______
 ________________________________________\n\nIn the comments\, please provi
 de (honestly):\n\n- Your climbing experience (indoor\, outdoor\, toprope\,
  lead)\n\n- Whether you can lead belay (last time you did/short history of
  exp lead belaying) and the device/s you have used\n\n- What skills you wa
 nt to learn on this trip?\n\n- Lead belaying\n\n- Lead climbing\n\n- Clean
 ing anchors\n\n- Falling safely\n\n- Whether you have a car and how many
  people you can fit\, including their climbing gear\n\n- What gear you are
  missing from the following list (if you do not include this you will not 
 be able to get gear - the gear cupboard has closed for the year.\n\n_____
 _________________________________________\n\nEssentials\n\n- Good vibes\n\
 n- Helmet\n\n- Harness\n\n- A belay device of your own with a locking cara
 biner\n\n- Safety (a sling and locking biner\, or a special-purpose safety
 )\n\n- At least 2L Water (Seriously - you will be sent to get more water b
 efore the trip begins if you don't have enough)\n\n- Medications you usual
 ly carry + any you would usually take outdoors (asthma puffer\, epi-pen et
 c.)\n\n- All the sport climbing gear you have\n\n- Climbing shoes\n\n- Hat
  and sunscreen\n\n______________________________________________\n\nIf you
  have any questions feel free to message myself (Nic Di Campli) or Jayden 
 on Messenger. We'll make a group chat and plan transport once people are a
 ccepted.
CATEGORIES:Climbing,Outdoor Climbing
LOCATION:https://maps.app.goo.gl/Rotx6VqS2UzAcVA27
END:VEVENT
BEGIN:VTIMEZONE
TZID:Australia/Sydney
X-LIC-LOCATION:Australia/Sydney
BEGIN:DAYLIGHT
DTSTART:20241006T030000
TZOFFSETFROM:+1000
TZOFFSETTO:+1100
TZNAME:AEDT
END:DAYLIGHT
END:VTIMEZONE
END:VCALENDAR