BEGIN:VCALENDAR
VERSION:2.0
PRODID:-//wp-events-plugin.com//7.2.3.1//EN
TZID:Australia/Sydney
X-WR-TIMEZONE:Australia/Sydney
BEGIN:VEVENT
UID:262@unswoc.org
DTSTART:20140511T130000Z
DTEND:20140512T110000Z
DTSTAMP:20130813T200531Z
URL:https://unswoc.org/wordpress/events/sydney-indoor-climbing-gym-session
 s-2014-05-12/
SUMMARY:Sydney Indoor Climbing Gym Sessions
DESCRIPTION:On Monday's and Fridays we recieve a discounted rate of $10 at 
 St Peters. There is usually a large crew of UNSWOCer's there on Mondays tr
 aining. as this gym has an area foir learning and practicing leading\, tha
 t is the usual activity. 
ATTACH;FMTTYPE=image/jpeg:https://unswoc.org/wordpress/wp-content/uploads/
 2013/08/11764_2.jpg
CATEGORIES:Outdoor Climbing
LOCATION:Sydney Indoor Climbing Gym\, 1-7 Unwins Bridge Road\, St Peters\, 
 NSW\, Australia
GEO:-33.911484;151.172470
X-APPLE-STRUCTURED-LOCATION;VALUE=URI;X-ADDRESS=1-7 Unwins Bridge Road\, St
  Peters\, NSW\, Australia;X-APPLE-RADIUS=100;X-TITLE=Sydney Indoor Climbin
 g Gym:geo:-33.911484,151.172470
END:VEVENT
END:VCALENDAR