BEGIN:VCALENDAR
VERSION:2.0
PRODID:-//wp-events-plugin.com//7.2.3.1//EN
TZID:Australia/Sydney
X-WR-TIMEZONE:Australia/Sydney
BEGIN:VEVENT
UID:2876@unswoc.org
DTSTART;TZID=Australia/Sydney;VALUE=DATE:20180303
DTEND;TZID=Australia/Sydney;VALUE=DATE:20180304
DTSTAMP:20210304T232431Z
URL:https://unswoc.org/wordpress/events/sweet-climbing-dreams/
SUMMARY:Sweet (climbing) dreams
DESCRIPTION:\n\nJoin Tad and I for an adventure up the Sweet Dreams multi-p
 itch at Sublime Point this Saturday! You will need to be a competent lead 
 belayer (and ideally lead climber)\, and be comfortable with lots of expos
 ure so please specify your climbing experience in the comments.\n\nYou wil
 l need:\n\n 	Helmet\n 	Harness\n 	Climbing shoes\n 	Safety sling and locki
 ng carabiner\n 	ATC and locking carabiner\n 	Prusiks and locking carabiner
 s (x2)\n 	Food/water\n 	Sunscreen\n 	Small multipithcing backpack\n\nLooki
 ng forward to it!
CATEGORIES:Outdoor Climbing
END:VEVENT
BEGIN:VTIMEZONE
TZID:Australia/Sydney
X-LIC-LOCATION:Australia/Sydney
BEGIN:DAYLIGHT
DTSTART:20171001T030000
TZOFFSETFROM:+1000
TZOFFSETTO:+1100
TZNAME:AEDT
END:DAYLIGHT
END:VTIMEZONE
END:VCALENDAR