BEGIN:VCALENDAR
VERSION:2.0
PRODID:-//wp-events-plugin.com//7.2.3.1//EN
TZID:Australia/Sydney
X-WR-TIMEZONE:Australia/Sydney
BEGIN:VEVENT
UID:328@unswoc.org
DTSTART:20140203T070000Z
DTEND:20140203T100000Z
DTSTAMP:20140202T153154Z
URL:https://unswoc.org/wordpress/events/surf-rafting/
SUMMARY:Surf Rafting
DESCRIPTION:Come have some awesome fun taking our lovely white water raft o
 ut into the surf!\n\nIf you have trouble finding us please call James on 0
 432866307.
ATTACH;FMTTYPE=image/jpeg:https://unswoc.org/wordpress/wp-content/uploads/
 2014/02/whitewater.jpg
CATEGORIES:Flat Water Kayaking
LOCATION:Maroubra Surf Life Saving Club\, Marine Pde\, Maroubra\, Australia
GEO:-33.945049;151.258972
X-APPLE-STRUCTURED-LOCATION;VALUE=URI;X-ADDRESS=Marine Pde\, Maroubra\, Aus
 tralia;X-APPLE-RADIUS=100;X-TITLE=Maroubra Surf Life Saving Club:geo:-33.9
 45049,151.258972
END:VEVENT
END:VCALENDAR