BEGIN:VCALENDAR
VERSION:2.0
PRODID:-//wp-events-plugin.com//7.2.3.1//EN
TZID:Australia/Sydney
X-WR-TIMEZONE:Australia/Sydney
BEGIN:VEVENT
UID:629@unswoc.org
DTSTART:20141012T020000Z
DTEND:20141012T053000Z
DTSTAMP:20141009T175923Z
URL:https://unswoc.org/wordpress/events/surf-kayak-and-bbq/
SUMMARY:Surf Kayak and BBQ
DESCRIPTION:Sooo here are the details for this Sunday. We'll meet at Maroub
 ra at 1pm. If you can help move boats/gear/people form uni please post her
 e. Bring swimmers and a towel/ board/boat etc. Please post so we know if y
 ou want to kayak or raft. There are BBQ at the beach so we can have an arv
 o BBQ and some beers too if people would like BYO snags etc. Please sign u
 p on the website for insurance.
CATEGORIES:Flat Water Kayaking
LOCATION:Maroubra Surf Life Saving Club\, Marine Pde\, Maroubra\, Australia
GEO:-33.945049;151.258972
X-APPLE-STRUCTURED-LOCATION;VALUE=URI;X-ADDRESS=Marine Pde\, Maroubra\, Aus
 tralia;X-APPLE-RADIUS=100;X-TITLE=Maroubra Surf Life Saving Club:geo:-33.9
 45049,151.258972
END:VEVENT
END:VCALENDAR