BEGIN:VCALENDAR
VERSION:2.0
PRODID:-//wp-events-plugin.com//7.2.3.1//EN
TZID:Australia/Sydney
X-WR-TIMEZONE:Australia/Sydney
BEGIN:VEVENT
UID:2121@unswoc.org
DTSTART;VALUE=DATE:20170402
DTEND;VALUE=DATE:20170403
DTSTAMP:20170328T131322Z
URL:https://unswoc.org/wordpress/events/sunday-wollangambe-liloing-trip/
SUMMARY:Sunday Wollangambe Liloing trip
DESCRIPTION:Hey gang\,\n\nNick and I are running Wollangambe 1 on Sunday. 
 It basically consists of carrying a lilo to a river and then floating down
  the river and then walking back. This trip is perfect for people who plan
  on being extremely hung-over on Sunday morning\, as well as people who do
 n't own cars\, and people who like being in awe of nature's beauty. It's a
 lso well-suited to beginners. You will need to be somewhat fit and to be 
 able to swim.\n\nYou will need:\n\n	A lilo (the club will provide one)\n	A
  backpack  (e.g 25L)\n	Woolen thermals to wear under wetsuit\; synthetic 
 thermals are also fine but absolutely no cotton thermals. If you don't hav
 e thermals but you are tolerant to cold then you can just wear a swimming 
 costume under your wetsuit\n	Wetsuit (can be borrowed from club)\n	Board s
 horts or running shorts (just some cheap loose shorts to wear over your we
 tsuit to protect it well moving on your butt over rocks)\n	FOOD bring both
  a substantial lunch and snacks. These should not be things that smoosh - 
 e.g. a banana or are sensitive to getting wet -e.g. loose bread. Ideally t
 hey should be waterproof\, if you don't have a drybag. A good example is n
 utella sandwiches in ziplock bags and lots of them with lollies to eat thr
 oughout the day\n	Water - at least 2L of water\n	Drybag\, these are sealab
 le waterproof bags you can buy for about $15 at outdoors stores\, basicall
 y just to keep your dry clothes and lunch and phone dry - these can be sha
 red\n	Hat and sunscreen\n	Headtorch if you have one\n	Any relevant medicat
 ion. I.e an asthma puffer\n	You'll want to have a camera\n	Helmet\n\nIt'
 ll be like this photo\, but with more lilos\n\n	\n\nSee you Sunday\,\n\nDi
 on.
ATTACH;FMTTYPE=image/jpeg:https://unswoc.org/wordpress/wp-content/uploads/
 2017/03/Dion-and-Izzy-in-the-gambe.jpg
CATEGORIES:Canyoning
END:VEVENT
END:VCALENDAR