BEGIN:VCALENDAR
VERSION:2.0
PRODID:-//wp-events-plugin.com//7.2.3.1//EN
TZID:Australia/Sydney
X-WR-TIMEZONE:Australia/Sydney
BEGIN:VEVENT
UID:3641@unswoc.org
DTSTART;TZID=Australia/Sydney:20250824T070000
DTEND;TZID=Australia/Sydney:20250824T181500
DTSTAMP:20250823T065510Z
URL:https://unswoc.org/wordpress/events/sunday-whitewater-kayaking/
SUMMARY:[cancelled] Sunday Whitewater Kayaking
DESCRIPTION:G'day Legends\,\n\nWith all the rain\, I'm planning to get on t
 he river on sunday and would love to have you along. We are looking at run
 ning either the kangaroo or Nepean river depending on levels. Both rivers 
 have back to back sections which will allow experienced paddlers to paddle
  the upper section\, and for novice paddlers to paddle the lower section w
 ith the whole crew.\n\nThis trip is suitable for those who have done some 
 whitewater kayaking. Pending river choice and group size\, I may be able t
 o take 1-2 total beginners who have some kayaking experience. If we have n
 ot paddled together\, please detail your kayaking experience in the sign u
 p comment. If we have paddled together\, please tell me the name of the ri
 ver gauge used to assess river level for paddling the section of the Nepea
 n river which runs from the Old Maldon Bridge to Douglas Park.\n\nWhat gea
 r the club can provide:\n\n 	Boat\,\n 	paddle\,\n 	PFD\,\n 	helmet\,\n 	sp
 ray deck\n\nWhat you need to bring\n\n 	Warm clothes for after the river\,
 \n 	wet clothes for on the river\,\n 	wetsuit or dry top\,\n 	shoes for we
 aring in the boat with good grip (NOT coral reef/water shoes) - think cany
 oning\,\n 	dry bag\,\n 	snacks\,\n 	lunch\,\n 	water bottle with carabiner
 .\n
LOCATION:https://maps.app.goo.gl/MbvMaEKV31AZmC526
END:VEVENT
BEGIN:VTIMEZONE
TZID:Australia/Sydney
X-LIC-LOCATION:Australia/Sydney
BEGIN:STANDARD
DTSTART:20250406T020000
TZOFFSETFROM:+1100
TZOFFSETTO:+1000
TZNAME:AEST
END:STANDARD
END:VTIMEZONE
END:VCALENDAR