BEGIN:VCALENDAR
VERSION:2.0
PRODID:-//wp-events-plugin.com//7.2.3.1//EN
TZID:Australia/Sydney
X-WR-TIMEZONE:Australia/Sydney
BEGIN:VEVENT
UID:2031@unswoc.org
DTSTART:20160625T191500Z
DTEND:20160626T060000Z
DTSTAMP:20160622T104445Z
URL:https://unswoc.org/wordpress/events/sunday-snowy-piddo/
SUMMARY:Sunday Snowy Piddo
DESCRIPTION:This Sunday will be an intermediate trip to Mt Piddington\, a p
 redominately trad climbing area.\n\n&nbsp\;\n\nYou will need to be self-su
 fficient\, and preferably have your own rack. There may be some space for 
 seconders.\n\n&nbsp\;\n\nGive me a message if you're interested.\n\n&nbsp\
 ;\n\nEamonn
CATEGORIES:Outdoor Climbing
END:VEVENT
END:VCALENDAR