BEGIN:VCALENDAR
VERSION:2.0
PRODID:-//wp-events-plugin.com//7.2.3.1//EN
TZID:Australia/Sydney
X-WR-TIMEZONE:Australia/Sydney
BEGIN:VEVENT
UID:2283@unswoc.org
DTSTART;VALUE=DATE:20180909
DTEND;VALUE=DATE:20180910
DTSTAMP:20180904T232849Z
URL:https://unswoc.org/wordpress/events/sunday-outdoor-climbing-lets-get-t
 hat-%e2%98%85%e2%98%85/
SUMMARY:Sunday outdoor climbing\, let's get that ★★!
DESCRIPTION:[s2If current_user_is(s2member_level1)][/s2If]\n\nForecast is l
 ooking great for this Sunday\, so let's go climbing! – SUNDAY THE 9th 
 –\n\nKieran\, Henry and I are heading to Bourbon Wall\, a great crag wit
 h awesome climbs. Bourbon wall is a local crag so it’s a &lt\;1 hr driv
 e from UNSW. The easiest grade is 17\, although the main grades go from 19
  to 24. No outdoors climbing experience is needed\, we will set up top rop
 es for everyone and teach you the basic climbing knots. However\, make sur
 e you can climb grade 17+!\n\nWe will drive there on Sunday morning and cl
 imb until the sun sets. We will car-pool to get there\, so let me know if
  you have a car (and you get preference)! :) You will need:\n\n 	Harness +
  locker carabiner + belay device (atc or grigri)\n 	Helmet\n 	Climbing sho
 es + chalk bag\n 	Water + food\n 	Warm clothes + good-grip shoes to walk t
 o the crag\n 	Sunscreen\, head-torch\, tape\, chocolate.\n\nThat's it\, ge
 t keen for an awesome day of climbing! To get accepted\, send me a message
  (Maria LC) with your climbing experience (if any) + whether you have a ca
 r!\n\n\n\nCheck out the climbs: https://www.thecrag.com/climbing/australia
 /south-west/area/624385557
CATEGORIES:Outdoor Climbing
END:VEVENT
END:VCALENDAR