BEGIN:VCALENDAR
VERSION:2.0
PRODID:-//wp-events-plugin.com//7.2.3.1//EN
TZID:Australia/Sydney
X-WR-TIMEZONE:Australia/Sydney
BEGIN:VEVENT
UID:3244@unswoc.org
DTSTART;TZID=Australia/Sydney:20230402T090000
DTEND;TZID=Australia/Sydney:20230402T170000
DTSTAMP:20230330T084334Z
URL:https://unswoc.org/wordpress/events/sunday-hiking-to-berowra-waters-tr
 ackhead/
SUMMARY:Beginner / Intermediate – Hiking to Berowra Waters Trackhead
DESCRIPTION:Hey all!\n\nKrish and I (Cindy) are leading a hike down to Bero
 wra Waters Trackhead. We'll have some spectacular views\, cliff views over
  the harbour\, and ending with a solid lunch at the Marina. This will be a
 n easy\, beginner friendly hike and is approximately 13km\, with 900 verti
 cal meters and the hike itself should take us about 6 hours to complete.\n
 \nWhat you’ll need to bring:\n\n- Sturdy\, comfortable shoes or hiking b
 oots\n- Backpack to hold your stuff\n- Appropriate hiking clothes\n- Hat\n
 - Rain jacket\n- Warm clothes\n- Lunch and snacks\n- 2 L of water - need t
 o have this ready as they're not readily available water sources.\n- Sunsc
 reen/mosquito repellent\n- Any personal medication you might normally carr
 y with you\n\nAs we will be starting and finishing at train stations\, car
 's won't be necessary :). Also be sure to let us know your general fitness
 /hiking experience. And lastly\, just so I know you’ve read this info\, 
 let me know if you prefer coastal hikes or wilderness walks?\n\nFeel free 
 to contact Krish (Krishna) or I (https://www.facebook.com/Cindy.li27/) if 
 you have any questions.\n\nTrips will be approved by Friday night :)\n\nPl
 ease be aware that as the weather is unpredictable\, trip leaders may need
  to alter trips accordingly.
CATEGORIES:Bushwalking
END:VEVENT
BEGIN:VTIMEZONE
TZID:Australia/Sydney
X-LIC-LOCATION:Australia/Sydney
BEGIN:STANDARD
DTSTART:20230402T020000
TZOFFSETFROM:+1100
TZOFFSETTO:+1000
TZNAME:AEST
END:STANDARD
END:VTIMEZONE
END:VCALENDAR