BEGIN:VCALENDAR
VERSION:2.0
PRODID:-//wp-events-plugin.com//7.2.3.1//EN
TZID:Australia/Sydney
X-WR-TIMEZONE:Australia/Sydney
BEGIN:VEVENT
UID:713@unswoc.org
DTSTART:20150314T230000Z
DTEND:20150315T060000Z
DTSTAMP:20150307T015602Z
URL:https://unswoc.org/wordpress/events/sunday-climbing-boree-log-zig-zag-
 2/
SUMMARY:Sunday Climbing - Boree Log - Zig Zag
DESCRIPTION:The main climbing trip on Sunday will go to the Zig Zag area ne
 ar the Engineer’s Cascade in Mt Victoria (NOT to be confused with the Zi
 g Zag Railway near Lithgow!)\n\nThis great and underrated cliffline has a 
 huge variety of more traditional Blue Mountains rock climbing in all style
 s and all difficulties!\n\n(While there are several great beginner routes 
 here which we will be climbing\, be aware Zig Zag is a bigger and more exp
 osed cliff\, and this trip will be a little more adventurous than the frie
 ndly Dam Cliffs area we will visit on Saturday)
CATEGORIES:Outdoor Climbing
END:VEVENT
END:VCALENDAR