BEGIN:VCALENDAR
VERSION:2.0
PRODID:-//wp-events-plugin.com//7.2.3.1//EN
TZID:Australia/Sydney
X-WR-TIMEZONE:Australia/Sydney
BEGIN:VEVENT
UID:2405@unswoc.org
DTSTART:20190427T220000Z
DTEND:20190428T053000Z
DTSTAMP:20190427T010116Z
URL:https://unswoc.org/wordpress/events/sunday-climbing-away-from-bondi/
SUMMARY:Sunday Beginner Climbing Trip - Sutherland
DESCRIPTION:Hey all!\n\nIn lieu of a paddling trip this weekend\, Izzy and 
 I (Nikki) will be running a beginner-friendly climbing trip coming to a lo
 cal Sydney crag near you! This trip is open to all skill levels\, shoot us
  a message with your experience. We will be climbing at Sutherland - exact
  crag TBD based on attendees.\n\nDepending where people are located - we w
 ill meet at the gear cupboard at 9:00am and will head to the TBD crag from
  there.\n\nClimbing gear you will need (if you do NOT have these\, let us 
 know what you need so we can collect it for you):\n\n 	Harness\n 	Belay de
 vice\n 	Locking Carabiner\n 	Helmet\n 	Climbing shoes\n\nOther things you 
 will need:\n\n 	Food\n 	Water (2L preferred)\n 	Backpack\n 	Sunscreen\n 	S
 ensible clothing and shoes for walking in (think sun protection and good m
 ovement)\n\nPlease message us with your experience\, gear you need\, wheth
 er you have a car and how many spaces.\n\nWe apologise for the last minute
  changes and hope you understand we want to always run enjoyable\, safe an
 d comfortable trips that help spread the love of outdoors to you all!
CATEGORIES:Outdoor Climbing
END:VEVENT
END:VCALENDAR