BEGIN:VCALENDAR
VERSION:2.0
PRODID:-//wp-events-plugin.com//7.2.3.1//EN
TZID:Australia/Sydney
X-WR-TIMEZONE:Australia/Sydney
BEGIN:VEVENT
UID:749@unswoc.org
DTSTART;VALUE=DATE:20150315
DTEND;VALUE=DATE:20150316
DTSTAMP:20150311T052807Z
URL:https://unswoc.org/wordpress/events/sunday-canyoning-the-recovery-cany
 on/
SUMMARY:Sunday Canyoning - The recovery canyon.
DESCRIPTION:Hola all\,\n\n&nbsp\;\n\nKatie and I will be running a 'take it
  easy' canyon on the Sunday. It will be a relaxed affair\, but you will st
 ill need a we suit and some floatation device\, canyon depending. You'll a
 lso need some lunch\, some sunscreen\, and a hangover that isn't so severe
  as to make you scream in pain when you hit the wonderful clean and wholes
 ome waters of the Wollangambe.\n\n&nbsp\;\n\nThe current plan is to do one
  of the Tourist sections of the 'gambe\, which involve a relaxing float do
 wn a river\, with a few points where you have to clamber over rocks. This 
 should also allow us to sneak a peak at some of the bottom sections of som
 e very well know and impressive side canyons\, time depending.\n\n&nbsp\;\
 n\nLooking forward to seeing you there.\n\n&nbsp\;\n\nSam + Katie.\n\n&nbs
 p\;\n\nPhoto is from Oz Ultimate.\n\n&nbsp\;
ATTACH;FMTTYPE=image/jpeg:https://unswoc.org/wordpress/wp-content/uploads/
 2015/03/Gambe-copy.jpg
CATEGORIES:Canyoning
LOCATION:\, \, 
X-APPLE-STRUCTURED-LOCATION;VALUE=URI;X-ADDRESS=\, ;X-APPLE-RADIUS=100;X-TI
 TLE=:geo:0,0
END:VEVENT
END:VCALENDAR