BEGIN:VCALENDAR
VERSION:2.0
PRODID:-//wp-events-plugin.com//7.2.3.1//EN
TZID:Australia/Sydney
X-WR-TIMEZONE:Australia/Sydney
BEGIN:VEVENT
UID:750@unswoc.org
DTSTART:20150314T220000Z
DTEND:20150315T050000Z
DTSTAMP:20150310T031852Z
URL:https://unswoc.org/wordpress/events/sunday-canyoning-hat-hill-canyon/
SUMMARY:Sunday Canyoning - Hat Hill Canyon
DESCRIPTION:Hi\, Blair and I will run a trip to Hat Hill Canyon on sunday! 
 Weather permitting.\n\nThis small but pretty canyon is close to Blackheath
  town (and its great cafes which will definitely be visited on the way) an
 d well worth a visit by all accounts. At the end of the canyon we should h
 ave spectacular views over the Grose Valley where we will be able to liter
 ally look down on everyone on the Grose Gorge hiking trip.\n\nPhotos here 
 http://fatcanyoners.org/2011/12/15/hat-hill-creek/\n\nThis trip is a good 
 one for beginners\, however it will have a short distance of scratchy off-
 track bushwalking\, so it is a just a bit trickier than the Wollangambe. I
 f you enjoy the cold\, you won't need a wetsuit just swimmers\, however it
 's recommended as there are a few cold pools to wade through (I'm bringing
  mine!). Good shoes and socks are a must for walking in the creek (can't g
 o wrong with $5 Holeproof Explorer socks from Kmart). I also don't mind if
  people wear bike helmets if they have one that they like and fits well.\n
 \nIf the weather is bad\, we'll do a short bushwalk instead\, either near 
 the canyon\, or out to Mt Banks which is quite near the campsite.\n\nThere
 's room for a few more\, car spots and gear permitting. If you will have a
  car let me know.\n\nCheers Sam\n\n&nbsp\;
CATEGORIES:Boree Log,Bushwalking,Canyoning
LOCATION:Hat Hill\, Hat Hill Road\, Blackheath\, Australia
GEO:-33.614391;150.320633
X-APPLE-STRUCTURED-LOCATION;VALUE=URI;X-ADDRESS=Hat Hill Road\, Blackheath\
 , Australia;X-APPLE-RADIUS=100;X-TITLE=Hat Hill:geo:-33.614391,150.320633
END:VEVENT
END:VCALENDAR