BEGIN:VCALENDAR
VERSION:2.0
PRODID:-//wp-events-plugin.com//7.2.3.1//EN
TZID:Australia/Sydney
X-WR-TIMEZONE:Australia/Sydney
BEGIN:VEVENT
UID:621@unswoc.org
DTSTART:20140927T130000Z
DTEND:20140928T050000Z
DTSTAMP:20140924T171818Z
URL:https://unswoc.org/wordpress/events/sunday-bouldering-balkans/
SUMMARY:Sunday - Bouldering in The Balkans
DESCRIPTION:Hey guys!\n\nWant a beautiful place to nurse your hangover on S
 unday? Come hang with me in The Balkans!\nThe plan was to head into the 'F
 rontlines' section of The Balkans but if anyone has a better idea I'm up f
 or a detour! The Frontlines is an amazing spot perfect for all levels of c
 limbers\, with over 200 boulder problems ranging from V0 to V12!\n\nDetail
 s:\n\n	Leaving UNSW at 9am to be at the crag by 10am. If you are leaving f
 rom a different location let me know and I will wait for you on Larra Cr 
 so we can walk in together.\n	YOU WILL NEED lots of water\, climbing shoes
  (recommended but not necessary)\, lunch\, a helmet (recommended)\, a hamm
 ock or slackline if you have one and a case of beer if you want to make fr
 iends (\;\n	I will be finishing up around 3-4pm but anyone that wants to s
 tick around is free to do so. Just remember that the bouldering mat is th
 en your responsibility!\n	Transport: I will be driving and I'm sure others
  will be too but if you are an unlucky soul that misses out on a spot neve
 r fear! This crag is easily accessible by public transport.Transport descr
 iption stolen from the crag:\nFrom the east / city catch any of the 600 se
 ries Westbuses heading for 'Castle Hill' from Central Stn\, Wynyard Stn\, 
 North Sydney Stn or the Macquarie Centre. Make sure the bus stops at Barcl
 ay Rd because this is where you get off.From the west catch any of the 60
 0 series Westbuses (the yellow\, red and black ones) heading for the Macqu
 arie Centre or City (via the M2) from Blacktown Stn. Make sure the bus sto
 ps at Barclay Rd because this is where you get off.Having arrived at Barcl
 ay Rd bus stop by either of the above methods\, walk up the ramps and head
  west (downhill) along Barclay Rd for about 100m and turn right into Mill 
 Dr and Larra Cres. This is where we'll meet (:\n\nhttp://www.thecrag.com/
 climbing/australia/north-west/the-balkans\n\nFor more information please f
 eel free to PM me on facebook or give me a buzz on 0408370536.\n\n&nbsp\
 ;
CATEGORIES:Outdoor Climbing,Social Event
LOCATION:The Balkans\, Larra Crescent\, Baulkham hills \, Australia
GEO:-33.761372;151.014709
X-APPLE-STRUCTURED-LOCATION;VALUE=URI;X-ADDRESS=Larra Crescent\, Baulkham h
 ills \, Australia;X-APPLE-RADIUS=100;X-TITLE=The Balkans:geo:-33.761372,15
 1.014709
END:VEVENT
END:VCALENDAR