BEGIN:VCALENDAR
VERSION:2.0
PRODID:-//wp-events-plugin.com//7.2.3.1//EN
TZID:Australia/Sydney
X-WR-TIMEZONE:Australia/Sydney
BEGIN:VEVENT
UID:2229@unswoc.org
DTSTART;VALUE=DATE:20180318
DTEND;VALUE=DATE:20180319
DTSTAMP:20180309T001035Z
URL:https://unswoc.org/wordpress/events/sunday-boree-log-liloing-wollangam
 be-1-2/
SUMMARY:Sunday Boree Log Liloing Wollangambe 1 & 2
DESCRIPTION:Keen for an ultra chill Sunday? Whether you’re planning an ep
 ic adventure on Saturday\, a big party Sat Night\, or just want to mentall
 y prepare for the week ahead\, we have the canyon for you!\n\nForgot all t
 hat tricky boulder scrambling\, cold swimming\, and slippery abseils\, bec
 ause we got lilos to lazily drift downstream (disclaimer: the walk out is 
 steep and involves carrying lilos).\n\nWollangambe 1 And 2 are beautiful c
 anyons in their own right\, and what better way to see them than lying dow
 n?\n\n*Disclaimer: chill day by canyoning standards\, physically demanding
  day by regular standards\, so general fitness and swimming ability requir
 ed*\n\nYOU WILL NEED:\n\n* Lunch * Water (I recommend at least 2L)\n\n* Li
 lo** * A drybag (these cost about $12\, from Kathmandu/ Anaconda/ Macpac /
  the internet)\, I’d recommend 15L – 20L if you’re interested in get
 ting into canyoning\, but any size is fine. It’s just to keep your cloth
 es and lunch dry\, and maybe camera\n\n* A backpack\, around 25L in capaci
 ty\n\n* A wetsuit (optional)** * A helmet (the club has these\, but a bicy
 cle helmet works fine anyway)**\n\n* Well gripping enclosed shoes (I’m l
 ooking at you people thinking about wearing thongs)\, e.g. old running sho
 es or sneakers. Note: these will get dirty and damaged\n\n* Wool or synthe
 tic socks (your feet will get cold in cotton socks)\n\n* Optional thermals
 \, wool or synthetic to wear under your wetsuit\, if you’re the kind of 
 person who gets cold easily\n\n* Shirt and shorts/leggings to walk into th
 e canyon\n\n* Maybe a camera\n\nYou can borrow items with a ** from the cl
 ub\, but as always\, limited availability with Boree Log\, so bringing you
 r own is always a safe bet!\n\nSee ya Sunday!\n\nLove Izzy and Dion
ATTACH;FMTTYPE=image/jpeg:https://unswoc.org/wordpress/wp-content/uploads/
 2014/03/Wollangambe-One_Dec-2009.jpg
CATEGORIES:Canyoning
END:VEVENT
END:VCALENDAR