BEGIN:VCALENDAR
VERSION:2.0
PRODID:-//wp-events-plugin.com//7.2.3.1//EN
TZID:Australia/Sydney
X-WR-TIMEZONE:Australia/Sydney
BEGIN:VEVENT
UID:1989@unswoc.org
DTSTART:20160319T220000Z
DTEND:20160320T050000Z
DTSTAMP:20160316T112125Z
URL:https://unswoc.org/wordpress/events/sunday-boree-log-canyon-fortress/
SUMMARY:Sunday Boree Log Canyon - Fortress
DESCRIPTION:Hey\,\n\nI'll be running Fortress canyon with Eamonn on Sunday.
  Its a great canyon with great views and give you a little taste of everyt
 hing canyoning has to offer. Its near Leura\, on the way home and takes 6-
 8hrs so its just short of a full day. Its pretty mad. This is a photo of m
 e in a different canyon but it looks like this in parts. There's an abseil
  so you can't be petrified of heights and you must be able to swim. We nee
 d my car plus 2 so drivers get priority.\n\nGear list\n\n	Shoes with grip 
 that you don’t mind getting wet and dirty\, such as Volleys from Big W\n
 	Wetsuit\, these can be borrowed\, bought second hand at Vinnies or bought
  for cheap at Aldi or Anaconda\n	Boardshorts or running shorts to protect 
 the wetsuit\n	Thermals\, these are really recommended\, you can get top an
 d bottom from either Macpac or Kathmandu for $40\, and they’re useful fo
 r Winter and around camp as well\n	Small backpack ~20L\n	Harness\, abseili
 ng device and carabiner (the club has these)\n	Drybag (to keep your stuff 
 dry)\, Macpac\, Moutain Designs and Kathmandu sell these\n	Snacks and a fu
 ll lunch (high calories)\n	Any medication\n	Socks made of\, ideally wool\,
  then polyester\, basically anything other than cotton\n\n&nbsp\;\n\nCatc
 h you on the flip flop\,\n\nDion.
CATEGORIES:Canyoning
END:VEVENT
END:VCALENDAR