BEGIN:VCALENDAR
VERSION:2.0
PRODID:-//wp-events-plugin.com//7.2.3.1//EN
TZID:Australia/Sydney
X-WR-TIMEZONE:Australia/Sydney
BEGIN:VEVENT
UID:3402@unswoc.org
DTSTART;TZID=Australia/Sydney;VALUE=DATE:20240317
DTEND;TZID=Australia/Sydney;VALUE=DATE:20240318
DTSTAMP:20240306T123741Z
URL:https://unswoc.org/wordpress/events/sunday-bl-yileen-canyon/
SUMMARY:[FULL] SUNDAY BL - Yileen Canyon
DESCRIPTION:I will be running a Sunday trip to Yileen\, some track notes ca
 n be found here. It should take about 6 hours\, with some abseils\, scramb
 ling (down climbing) and perhaps a jump dependent on water levels.\n\n&nbs
 p\;\n\nWhat do I need to bring?\n\n 	Dry bag\n 	Helmet*\n 	Harness*\n 	Des
 cender (figure 8)*\n 	Safety Sling*\n 	2 x locking carabiners*\n 	Enclosed
  grippy shoes (these will get wet and muddy)\n 	3-5mm wetsuit*\n 	Shorts t
 o go over and protect your wetsuit\n 	Rain/spray jacket\n 	Headtorch\n 	Em
 ergency blanket (Please ensure you have this as you will be left at camp w
 ithout it\, can be purchased from the club for $5 or any outdoor store)\n 
 	Warm clothes (bring a set of thermals to leave in the drybag\, no cotton)
 \n 	At least 2L of water\n 	Food and snacks for the day\n 	Personal medica
 tion (e.g. epipen\, asthma puffer)\n 	Backpack to fit all of the above (wi
 ll get wet)*\n 	Nice-to-haves:\n\n 	Thongs to leave in the car\n 	Gloves t
 o keep your hands warm\n 	Neoprene/merino socks to keep the toes toasty\n 
 	Whistle\n 	Towel\n 	Phone/camera\, preferably waterproof or leave in your
  drybag (triple bag it incase)\n\n\n\n*Can be borrowed from the club for f
 ree for this trip. Gear will be organised at Boree Log.\n\n&nbsp\;\n\nThan
 ks to Zee for the deets above\, Featured image cred - SUBW
ATTACH;FMTTYPE=image/jpeg:https://unswoc.org/wordpress/wp-content/uploads/
 2024/03/P1050558.jpg
CATEGORIES:Boree Log,Canyoning
LOCATION:https://maps.app.goo.gl/QBL2LPG7k6rfG2R3A
END:VEVENT
BEGIN:VTIMEZONE
TZID:Australia/Sydney
X-LIC-LOCATION:Australia/Sydney
BEGIN:DAYLIGHT
DTSTART:20231001T030000
TZOFFSETFROM:+1000
TZOFFSETTO:+1100
TZNAME:AEDT
END:DAYLIGHT
END:VTIMEZONE
END:VCALENDAR