BEGIN:VCALENDAR
VERSION:2.0
PRODID:-//wp-events-plugin.com//7.2.3.1//EN
TZID:Australia/Sydney
X-WR-TIMEZONE:Australia/Sydney
BEGIN:VEVENT
UID:3017@unswoc.org
DTSTART;TZID=Australia/Sydney:20220514T090000
DTEND;TZID=Australia/Sydney:20220514T170000
DTSTAMP:20220505T151705Z
URL:https://unswoc.org/wordpress/events/sunday-bl-yileen-canyon-intermedia
 te-advanced/
SUMMARY:SATURDAY BL – Yileen – Canyon Intermediate
DESCRIPTION:“You need to be approved for the main Boree Log event to atte
 nd these trips. Please\nsign up for only ONE trip per day. If you get reje
 cted you can then sign up for another trip\,\nthis just makes it easier fo
 r volunteer trip leaders.\nPlease be aware that as the weather is unpredic
 table\, trip leaders may need to alter trips\naccordingly”\n\n&nbsp\;\n\
 n&nbsp\;\n\nJoin Nadav and me for a great day in Yileen Canyon.\n\nExperie
 nce abseiling is a must and it is preferred if you have canyoned before. T
 he canyon ends in a 60m abseil!\n\nYou will need:\n\n 	Harness*\n 	Descend
 er* (figure 8\, or ATC) and a carabiner\n 	Safety sling and carabiner*\n 	
 Prusik and carabiner*\n 	At least 1.5L of water\n 	Food: lunch\, lots of s
 nacks.\n 	Emergency blanket (compulsory for all club canyons\, can be bou
 ght from the gear cupboard/Boree Log camp for $5)\n 	Helmet*\n 	Wetsuit*\n
  	Board shorts (to wear over a wetsuit\, compulsory if wearing a club wet
 suit)\n 	Backpack (big enough to hold everything)\n 	Dry bag*\n 	Enclosed
  Shoes (Volleys or old sneakers are good options)\n 	Woolen socks\n 	Head
 torch\n 	Thermals to wear under the wetsuit\n 	An old rain jacket to wear 
 over the top of the wetsuit.\n 	Dry thermals/jumper (not cotton!) for emer
 gency\n 	Dry clothes to leave in the car\n 	Sunscreen\n 	No cotton (it ge
 ts very cold when wet)\n\nItems with an asterisk (*) can be borrowed from
  the gear cupboard.\n\nIn the comments please include your abseiling and c
 anyoning experience\, whether you’ve got a car with spots\, and what you
  estimate the water temperature in Yileen will be (so I know you’ve read
  this far).\n\nFeel free to message Nadav or me if you have any questions.
END:VEVENT
BEGIN:VTIMEZONE
TZID:Australia/Sydney
X-LIC-LOCATION:Australia/Sydney
BEGIN:STANDARD
DTSTART:20220403T020000
TZOFFSETFROM:+1100
TZOFFSETTO:+1000
TZNAME:AEST
END:STANDARD
END:VTIMEZONE
END:VCALENDAR