BEGIN:VCALENDAR
VERSION:2.0
PRODID:-//wp-events-plugin.com//7.2.3.1//EN
TZID:Australia/Sydney
X-WR-TIMEZONE:Australia/Sydney
BEGIN:VEVENT
UID:3533@unswoc.org
DTSTART;TZID=Australia/Sydney;VALUE=DATE:20250323
DTEND;TZID=Australia/Sydney;VALUE=DATE:20250324
DTSTAMP:20250401T023216Z
URL:https://unswoc.org/wordpress/events/sunday-bl-yileen-canyon-beginner/
SUMMARY:[Cancelled for Rain] SUNDAY BL - YILEEN Canyon (Beginner)
DESCRIPTION:\nPlease Note: You need to be approved for the main Boree Log e
 vent to attend these trips. Please sign up for only ONE trip per day. If y
 ou get rejected you can then sign up for another trip\, this just makes it
  easier for volunteer trip leaders. Please be aware that as the weather is
  unpredictable\, trip leaders may need to alter trips accordingly\n\n\n\nH
 ellooooo!\n\nJason and I (Sudarshan) will be running a beginner's canyonin
 g trip to Yileen Canyon.\n\nGet ready for some spectacular views of the Gr
 ose Valley\, constricted swims\, lush sections of constricted canyon\, and
  the crown jewel of a 50m abseil at the very end (maybe not if you're afra
 id of heights).\n\nExpect to take upto 7 hours\, and you can read the trac
 k notes here if you're keen - https://ozultimate.com/canyoning/track_notes
 /yileen.htm!\nWhat do I need to bring?\nTechnical Gear:\n\n 	Dry bag\n 	He
 lmet*\n 	Harness*\n 	Descender (figure 8)*\n 	Safety Sling*\n 	2 x locking
  carabiners*\n 	Enclosed grippy shoes (these will get wet and muddy)\n 	We
 tsuit*\n 	Boardshorts to go over and protect your wetsuit\n 	Rain/spray ja
 cket\n 	Headtorch\n 	Emergency blanket (Please ensure you have this as you
  will be left at camp without it\, can be purchased from the club for $5 o
 r any outdoor store).\n\n*Can be borrowed from the club for free for this 
 trip. Gear will be organised at Boree Log.\n\nGeneral compulsory gear:\n\n
  	Warm clothes\, no cotton (bring a set of thermals to leave in the drybag
 )\n 	At least 2L of water\n 	Food and snacks for the day\n 	Personal medic
 ation (e.g. epipen\, asthma puffer)\n 	Backpack to fit all of the above (w
 ill get very very wet)\n\nNice-to-haves:\n\n 	Thongs to leave in the car\n
  	Gloves to keep your hands warm\n 	Neoprene socks to keep the toes toasty
 \n 	Whistle\n 	Phone/camera\, preferably waterproof or leave in your dryba
 g (triple bag it incase)\n\nPlease note\, for the packing list we specify 
 NO COTTON as hypothermia is common in canyons\, and cotton will only make 
 it worse! People have gotten hypothermia canyoning on a 35 degree summer d
 ay.\n\nIn the comments please include:\n\n\n 	Your canyoning and/or cold w
 ater swimming experience (it’s completely fine to be an absolute beginne
 r!)\n 	What emoji represents you today and why\n 	What gear you have/need 
 (preference for those with wetsuits)\n 	If you have a car\, the number of 
 spots\n
CATEGORIES:Boree Log,Canyoning
LOCATION:https://unswoc.org/wordpress/events/boree-log-term-1-2025-when-i-g
 row-up/
END:VEVENT
BEGIN:VTIMEZONE
TZID:Australia/Sydney
X-LIC-LOCATION:Australia/Sydney
BEGIN:DAYLIGHT
DTSTART:20241006T030000
TZOFFSETFROM:+1000
TZOFFSETTO:+1100
TZNAME:AEDT
END:DAYLIGHT
END:VTIMEZONE
END:VCALENDAR