BEGIN:VCALENDAR
VERSION:2.0
PRODID:-//wp-events-plugin.com//7.2.3.1//EN
TZID:Australia/Sydney
X-WR-TIMEZONE:Australia/Sydney
BEGIN:VEVENT
UID:3536@unswoc.org
DTSTART;TZID=Australia/Sydney;VALUE=DATE:20250323
DTEND;TZID=Australia/Sydney;VALUE=DATE:20250324
DTSTAMP:20250320T070124Z
URL:https://unswoc.org/wordpress/events/sunday-bl-wollangambe-river/
SUMMARY:[one spot left!] - SUNDAY BL - Wollangambe River
DESCRIPTION:Never been canyoning before? Want a more chilled out Sunday tri
 p? Come join Mali and I for a float down the Wollangambe River! We'll spen
 d the day floating down a gorgeous canyon\, looking up at the striking wal
 ls and enjoying the sun. There are no abseils in this canyon\, so it's a g
 ood one to try out of you've never been before.\n\n\n\nWe will take as man
 y lilos as we can but we won't have enough for everyone so please bring yo
 ur own if you have one! A Lilo is a rugged inflatable air mattress. You ca
 n also bring a pool inflatable but be aware that it might scrape up agains
 t rocks and pop! Then you'll be left carrying out a wet piece of plastic :
 (\n\nThe day will involve hiking 3 km down to the river\, where we will ch
 ange into wetsuits\, stash our food and clothes in a dry bag\, and blow up
  our lilos/inflatables. We will then make our way down the river\, floatin
 g/swimming over the deep pools and scrambling over the bouldery sections. 
 There will be small sections of whitewater rapids from time to time\, whic
 h we will take care to walk around safely. Once we reach the exit we will 
 get changed out of our wetsuits and put on our dry clothes. Just note that
  you'll have to put a wet backpack on so you will not be completely dry. W
 e then have to walk out for 3 km up a 300 m hill.\n\nIf we have wet weathe
 r this trip won't proceed as the river can be dangerous in high water leve
 ls or flood. Instead we will go somewhere to practice rope skills or river
  crossing skills.\n\nYou can find more info on the canyon here\n\nWhat sho
 uld I bring? (* Can be borrowed from the club)\n\n 	Wetsuit * (best to bri
 ng your own to guarantee you get one that fits)\n 	Helmet *\n 	Dry bag *\n
  	Emergency blanket * (you need to have one\, can buy one from the club or
  a pharmacy for $5)\n 	Grippy shoes that you don't mind getting wet\n 	Hik
 ing clothes\n 	Hat and sunscreen\n 	Plenty of food and water\n 	Lilo or in
 flatable if you have one\n 	Waterproof camera or phone case if you want to
  take photos\n\n&nbsp\;\n\nHope to see you down at the river! If you want 
 to join this trip please use the comments to let me know if you have a car
 \, a Lilo and your favorite spot to go swimming (so I know that you've rea
 d this far).\n\n&nbsp\;
CATEGORIES:Boree Log,Canyoning
LOCATION:https://maps.app.goo.gl/1mg1ADTXBHtwL1WL8
END:VEVENT
BEGIN:VTIMEZONE
TZID:Australia/Sydney
X-LIC-LOCATION:Australia/Sydney
BEGIN:DAYLIGHT
DTSTART:20241006T030000
TZOFFSETFROM:+1000
TZOFFSETTO:+1100
TZNAME:AEDT
END:DAYLIGHT
END:VTIMEZONE
END:VCALENDAR