BEGIN:VCALENDAR
VERSION:2.0
PRODID:-//wp-events-plugin.com//7.2.3.1//EN
TZID:Australia/Sydney
X-WR-TIMEZONE:Australia/Sydney
BEGIN:VEVENT
UID:3682@unswoc.org
DTSTART;TZID=Australia/Sydney;VALUE=DATE:20251019
DTEND;TZID=Australia/Sydney;VALUE=DATE:20251020
DTSTAMP:20251007T091030Z
URL:https://unswoc.org/wordpress/events/sunday-bl-wollangambe-river-float-
 beginner/
SUMMARY:SUNDAY BL - WOLLANGAMBE River Float - Beginner
DESCRIPTION:Hello  friends\,\n\nAre you likely to drink too much on Boree 
 Log’s Saturday night?\n\nIs your idea of exercise floating down a river?
 \n\nJust signed up to the club for sweet Instagram photos?\n\nIf you answe
 red yes to any of these questions then have I got the trip for you.\n\nMe 
 (Daniel) and Alfie’s plan is to walk down to the Wollangambe River\, whi
 ch is at the bottom of the campsite we’ll be staying at\, float/ walk do
 wn it on lilos and then walk back to the campsite. This does still require
  some fitness to walk in and out to the river and to walk in the river\, b
 ut in the scheme of club trips\, it’ll be a relatively chill day.\n\n“
 You need to be approved for the main Boree Log event to attend these trips
 . Please sign up for only ONE trip per day. If you get rejected you can th
 en sign up for another trip\, this just makes it easier for volunteer trip
  leaders. Please be aware that as the weather is unpredictable\, trip lead
 ers may need to alter trips accordingly”\n\nThe actual canyon is pretty 
 gorgeous. (pun intended)\n\n********    YOU ABSOLUTELY MUST BE ABLE TO S
 WIM  ***********\n\nSome of the gear is pretty mandatory so pay attention
 :\n\n 	Canyoning gear provided at Boree Log event (If you have personal ge
 ar it is helpful to bring this along):\n\n 	Drybag*\n 	Wetsuit*\n 	Helmet*
 \n 	Lilo to float down the river on (we have some but feel free to bring y
 our own. Be prepared for it to pop and make sure it is lightweight as you 
 will need to carry it in and out)\n\n\n 	Canyoning gear not provided:\n\n 
 	Emergency blanket (You must carry one on every club canyoning trip. You m
 ust buy one from the gear cupboard for $5 cash or most outdoor stores)\n 	
 Backpack that can fit ALL your gear inside and that can get wet.\n\n\n\n\n
  	Clothing:\n\n 	Enclosed shoes with good grip\n 	Hat\, sunglasses &amp\; 
 sunscreen\n 	Wool socks\n 	Boardshorts to wear on top of wetsuit (compulso
 ry to protect the club wetsuits)\n 	Thermals or a fleece to carry as an em
 ergency extra layer\n 	NO COTTON!\n\n\n 	Food:\n\n 	1.5L of water in bottl
 es.\n 	Substantial lunch (pack it in a waterproof container\, and make sur
 e it’s vaguely crush-proof)\n 	Snacks (chocolate or something nice to sh
 are!)\n\n\n 	Miscellaneous:\n\n 	Any personal medicine (asthma puffer\, Ep
 ipen etc)\n 	A towel for drying off when you get back\n 	Phone or camera f
 or photos (optional\, and only if you’re prepared for it to get wet if y
 our drybag leaks!) I take mine in a pouch like this\n\n\n\n&nbsp\;\n\nPlea
 se let me know if you have a car\, how many spots and where you are headed
  to (for arranging lifts back to Sydney).\nAlso let me know your fave bird
  so i know you've read this far \;)
CATEGORIES:Boree Log,Canyoning
LOCATION:https://maps.app.goo.gl/eR7G7ijLjdXmeoqa8
END:VEVENT
BEGIN:VTIMEZONE
TZID:Australia/Sydney
X-LIC-LOCATION:Australia/Sydney
BEGIN:DAYLIGHT
DTSTART:20251005T030000
TZOFFSETFROM:+1000
TZOFFSETTO:+1100
TZNAME:AEDT
END:DAYLIGHT
END:VTIMEZONE
END:VCALENDAR