BEGIN:VCALENDAR
VERSION:2.0
PRODID:-//wp-events-plugin.com//7.2.3.1//EN
TZID:Australia/Sydney
X-WR-TIMEZONE:Australia/Sydney
BEGIN:VEVENT
UID:3767@unswoc.org
DTSTART;TZID=Australia/Sydney:20260322T100000
DTEND;TZID=Australia/Sydney:20260322T153000
DTSTAMP:20260317T001759Z
URL:https://unswoc.org/wordpress/events/sunday-bl-wollangambe-river-float-
 beginner-2/
SUMMARY:[FULL] SUNDAY BL - WOLLANGAMBE River Float [Beginner]
DESCRIPTION:Hello  friends\,\n\nAre you likely to drink too much on Boree 
 Log’s Saturday night?\n\nIs your idea of exercise floating down a river?
 \n\nJust signed up to the club for sweet Instagram photos?\n\nIf you answe
 red yes to any of these questions then have I got the trip for you.\n\nMe 
 (Jason) and Riley’s plan is to walk down to the Wollangambe River\, whic
 h is at the bottom of the campsite we’ll be staying at\, float/ walk dow
 n it on lilos and then walk back to the campsite. This does still require 
 some fitness to walk in and out to the river and to walk in the river\, bu
 t in the scheme of club trips\, it’ll be a relatively chill day.\n\n“Y
 ou need to be approved for the main Boree Log event to attend these trips.
  Please sign up for only ONE trip per day. If you get rejected you can the
 n sign up for another trip\, this just makes it easier for volunteer trip 
 leaders. Please be aware that as the weather is unpredictable\, trip leade
 rs may need to alter trips accordingly”\n\nThe actual canyon is pretty g
 orgeous. (pun intended)\n\n********    YOU ABSOLUTELY MUST BE ABLE TO SW
 IM  ***********\n\nSome of the gear is pretty mandatory so pay attention:
 \n\n 	Canyoning gear provided at Boree Log event (If you have personal gea
 r it is helpful to bring this along):\n\n 	Drybag*\n 	Helmet*\n 	Lilo to f
 loat down the river on (we have some but feel free to bring your own. Be p
 repared for it to pop and make sure it is lightweight as you will need to 
 carry it in and out)\n\n\n 	Canyoning gear not provided:\n\n 	Emergency bl
 anket (You must carry one on every club canyoning trip. You must buy one f
 rom the gear cupboard for $5 cash or most outdoor stores)\n 	Backpack that
  can fit ALL your gear inside and that can get wet.\n\n\n\n\n 	Clothing:\n
 \n 	Enclosed shoes with good grip\n 	Hat\, sunglasses &amp\; sunscreen\n 	
 Wool socks\n 	Swimmers to wear for the float\n 	Thermals or a fleece to ca
 rry as an emergency extra layer\n 	NO COTTON!\n\n\n 	Food:\n\n 	1.5L of wa
 ter in bottles.\n 	Substantial lunch (pack it in a waterproof container\, 
 and make sure it’s vaguely crush-proof)\n 	Snacks (chocolate or somethin
 g nice to share!)\n\n\n 	Miscellaneous:\n\n 	Any personal medicine (asthma
  puffer\, Epipen etc)\n 	A towel for drying off when you get back\n 	Phone
  or camera for photos (optional\, and only if you’re prepared for it to 
 get wet if your drybag leaks!) I take mine in a pouch like this\n\n\n\n&nb
 sp\;\n\nPlease let me know if you have a car\, how many spots and where yo
 u are headed to (for arranging lifts back to Sydney).\nAlso let me know yo
 ur fave bird so i know you've read this far \;)
CATEGORIES:Boree Log,Canyoning
LOCATION:http://.
END:VEVENT
BEGIN:VTIMEZONE
TZID:Australia/Sydney
X-LIC-LOCATION:Australia/Sydney
BEGIN:DAYLIGHT
DTSTART:20251005T030000
TZOFFSETFROM:+1000
TZOFFSETTO:+1100
TZNAME:AEDT
END:DAYLIGHT
END:VTIMEZONE
END:VCALENDAR