BEGIN:VCALENDAR
VERSION:2.0
PRODID:-//wp-events-plugin.com//7.2.3.1//EN
TZID:Australia/Sydney
X-WR-TIMEZONE:Australia/Sydney
BEGIN:VEVENT
UID:3747@unswoc.org
DTSTART;TZID=Australia/Sydney:20260322T080000
DTEND;TZID=Australia/Sydney:20260322T160000
DTSTAMP:20260319T044029Z
URL:https://unswoc.org/wordpress/events/sunday-bl-whungee-wheengee-canyon-
 beginner-intermediate/
SUMMARY:[FULL] Sunday BL - Whungee Wheengee Canyon [Beginner/Intermediate]
DESCRIPTION:“You need to be approved for the main Boree Log event to atte
 nd these trips. Please sign up for only ONE trip per day. If you get rejec
 ted you can then sign up for another trip\, this just makes it easier for 
 volunteer trip leaders. Please be aware that as the weather is unpredictab
 le\, trip leaders may need to alter trips accordingly”\n\nThe best way t
 o nurse your hangover is in ANOTHER canyon!! Join Alex &amp\; I (Phoebe) i
 n Whungee Wheengee for one of the best canyons the Blue Mountains has to o
 ffer (think: glowworms\, pretty slots &amp\; the best photo shots). If we'
 re speedy team we may optionally do Waterfall of Moss canyon after.\n\nThi
 s is a longer canyon (8+ hrs) so we'll be trying to make good time since w
 e'll head straight back to Sydney afterwards. Given this\, some experience
  with ropes and heights is preferable. This is a wet canyon so swimming ex
 perience is a must have - depending on water levels there may be some duck
  unders. The canyon will be slippery so experience scrambling is required.
  You'll also need a good level of physical fitness for the walk in and out
 . So that we know you've read the whole post please answer in your comment
 : What fruit is the best and why?\n\nWe will be leaving from the campsite 
 at 8:30am\, make sure you know how you're getting back to Sydney! We may b
 e able to organise some carpooling so if you'll have a car please let us k
 now how many spots you have.\n\n&nbsp\;\nWhat to bring:\n\n 	Eight style d
 escender *\n 	Helmet *\n 	Canyoning Harness *\n 	Full length wetsuit *\n 	
 3x Locking Carabiners *\n 	Safety (a 120cm sling works) *\n 	Drybag or keg
  *\n 	Canyon pack *\n 	Headtorch\n 	Emergency blanket (can be bought from 
 gear cupboard for $5)\n 	Swimmers (for under your wetsuit)\n 	Wool or wets
 uit socks\n 	Thermals\n 	Raincoat\n 	Old shoes with good grip\n 	2L of wat
 er\n 	Lunch\n 	Snacks\n 	Hiking clothes (will get wet on the walk out)\n 	
 Dry clothes and a towel (for the car)\n 	Medications you require (e.g asth
 ma puffer\, epipen)\n\nGear with a * can be borrowed on the day\, you don'
 t need to borrow anything from the gear cupboard. If you have your own gea
 r please bring it. Nothing you wear in the canyon can be cotton\, this inc
 ludes socks and underwear!\nIn your comment please let us know:\n\n 	Your 
 fitness\n 	Your swimming ability\n 	Your canyoning/ outdoor experience\n 	
 Any food allergies or dietary preferences (so we know what sharable snacks
  to bring)\n\nPlease message Alex or Myself on facebook with any questions
 .
CATEGORIES:Boree Log,Canyoning
LOCATION:https://maps.app.goo.gl/VHbr8EiFv45JKY7f9
END:VEVENT
BEGIN:VTIMEZONE
TZID:Australia/Sydney
X-LIC-LOCATION:Australia/Sydney
BEGIN:DAYLIGHT
DTSTART:20251005T030000
TZOFFSETFROM:+1000
TZOFFSETTO:+1100
TZNAME:AEDT
END:DAYLIGHT
END:VTIMEZONE
END:VCALENDAR