BEGIN:VCALENDAR
VERSION:2.0
PRODID:-//wp-events-plugin.com//7.2.3.1//EN
TZID:Australia/Sydney
X-WR-TIMEZONE:Australia/Sydney
BEGIN:VEVENT
UID:3491@unswoc.org
DTSTART;TZID=Australia/Sydney;VALUE=DATE:20241013
DTEND;TZID=Australia/Sydney;VALUE=DATE:20241014
DTSTAMP:20241002T122801Z
URL:https://unswoc.org/wordpress/events/sunday-bl-upper-sibley-intermediat
 e-sport-climbing/
SUMMARY:[FULL] SUNDAY BL - UPPER SHIPLEY INTERMEDIATE Sport Climbing
DESCRIPTION:**Intermediate Sport Climbing Trip SUNDAY Boree LOG**\n\nHi eve
 ryone\, Amelia V \, Myself (Gabriel) and TLIT Bennet will be running an in
 termediate sport climbing trip to Upper Shipley\, Blackheath.\n\nThis trip
  is aimed for people who have are either transitioning\, or compitant in l
 ead climbing. The aim of the day is to further develope lead climbing skil
 ls\, look at advanced lead belaying techniques\, how to safely take a lead
  fall\, and general lead climbing projecting tips and tricks.\n\nRemember 
 to answer the hidden question in your comment!\n\nNote:\n\n“You need to 
 be approved for the main Boree Log event to attend these trips. Please sig
 n up for only ONE trip per day. If you get rejected you can then sign up f
 or another trip\, this just makes it easier for volunteer trip leaders. Pl
 ease be aware that as the weather is unpredictable\, trip leaders may need
  to alter trips accordingly”\n\n&nbsp\;\n\nDetails for the trip\n\n 	Loc
 ation\n\n 	Upper Shipley - Walls Ledge Track\, Blackheath NSW 2785\n\n\n 	
 Time\n\n 	TBC (after group packup and campsite is clean)\n\n\n 	Wet Weathe
 r Plan\n\n 	Climbing at an indoor gym on the way back to sydney\n\n\n 	Dif
 ficultuy\n\n 	The grades vary at the crag\, starting from grade 17\, all t
 he way up to NAILS. Just a P.S\, climbing lead is alot harder than top rop
 e. Therefore your max grade may be a few grades lower on lead compared to 
 indoors or outdoors top rope. Please be mindful of this before signing up.
 \n\n\n\n&nbsp\;\n\nWhat to bring / What you need - (****) means must have!
 \n\n 	Harness ***\n 	Atc + locking beiner (or Gri Gri and Lo. beiner) ****
 \n 	Helmet ****\n 	Sling + locking beiner (personal saftey) ****\n 	Prusic
  (optional but recomended)\n 	Climbing shoes (COMFORTABLE)\n 	Atleast 2L o
 f water ****\n 	A backpack (with lunch\, snacks and personal items) ****\n
  	Appropriate Clothing (MUST BRING A HAT\, the crag can be very sunny) ***
 **\n 	YOUR HAPPY FACE\, AND BRAVE MINDSET!\n\nThis gear can be organised o
 n the day / night before at boree log\, but if you have personal gear\, (e
 g rope\, quickdrawers etc..) it is highly encoraged that you use that\, as
  gear can be scarse on the day.\n\n&nbsp\;\n\nImportant information!\n\nIn
  the comments below\, please let me know your climbing experience\, (I won
 t judge I prommise)\, if youll have a car\, how many spaces it has\, and w
 hat your opinoin is on 'socks with climbing shoes'.\n\nSuper keen to see y
 ou all there! Bring your best "send" attatude!\n\n-Gabriel\, Amelia V and 
 TLIT Bennet.\n\np.p.s please ignore the spelling errors.
CATEGORIES:Outdoor Climbing
LOCATION:http://Walls%20Ledge%20Track,%20Blackheath%20NSW%202785
END:VEVENT
BEGIN:VTIMEZONE
TZID:Australia/Sydney
X-LIC-LOCATION:Australia/Sydney
BEGIN:DAYLIGHT
DTSTART:20241006T030000
TZOFFSETFROM:+1000
TZOFFSETTO:+1100
TZNAME:AEDT
END:DAYLIGHT
END:VTIMEZONE
END:VCALENDAR