BEGIN:VCALENDAR
VERSION:2.0
PRODID:-//wp-events-plugin.com//7.2.3.1//EN
TZID:Australia/Sydney
X-WR-TIMEZONE:Australia/Sydney
BEGIN:VEVENT
UID:3229@unswoc.org
DTSTART;TZID=Australia/Sydney;VALUE=DATE:20230319
DTEND;TZID=Australia/Sydney;VALUE=DATE:20230320
DTSTAMP:20230313T000718Z
URL:https://unswoc.org/wordpress/events/sunday-bl-upper-shipley-sport-clim
 bing/
SUMMARY:[FULL] SUNDAY BL - UPPER SHIPLEY Sport Climbing
DESCRIPTION:Gabe and I (Maddi) will lead be leading a sport climbing trip o
 n Sunday to Upper Shipley in Blackheath. This area is very beginner friend
 ly so anyone is welcome. We will set up some top ropes but there will also
  be opportunities to learn to lead/clean routes if anyone is interested.\n
 We’ll meet at the Boree Log campground Sunday morning and head down toge
 ther to Blackheath.\n\nhttps://www.thecrag.com/en/climbing/australia/blue-
 mountains/shipley-upper\n\nTell me your experience level\, your favourite 
 hike in Australia and whether you have a car and number of extra spots ava
 ilable in the comments.\n\nYou will need:\n\n*Helmet\n*Harness\n*Belay dev
 ice + Locking Carabiner\n*Climbing Shoes\nFood + water (at least 2L!!)\nBa
 ckpack to carry the above\nwarm clothing (potentially – check the weathe
 r!)\npetrol money for your driver\ngood vibes\n*These items can be borrowe
 d the morning of Boree Log\, but it may run out so BYO if you have it to a
 void disappointment.\n\nYou must be approved to the main Boree Log event t
 o attend these trips. If you get rejected then you can sign up for another
  trip\, this just makes it easier for volunteer trip leaders. Please be aw
 are that as the weather is unpredictable\, trip leaders may need to alter 
 trips accordingly.
CATEGORIES:Climbing
END:VEVENT
BEGIN:VTIMEZONE
TZID:Australia/Sydney
X-LIC-LOCATION:Australia/Sydney
BEGIN:DAYLIGHT
DTSTART:20221002T030000
TZOFFSETFROM:+1000
TZOFFSETTO:+1100
TZNAME:AEDT
END:DAYLIGHT
END:VTIMEZONE
END:VCALENDAR