BEGIN:VCALENDAR
VERSION:2.0
PRODID:-//wp-events-plugin.com//7.2.3.1//EN
TZID:Australia/Sydney
X-WR-TIMEZONE:Australia/Sydney
BEGIN:VEVENT
UID:3763@unswoc.org
DTSTART;TZID=Australia/Sydney;VALUE=DATE:20260322
DTEND;TZID=Australia/Sydney;VALUE=DATE:20260323
DTSTAMP:20260317T051538Z
URL:https://unswoc.org/wordpress/events/sunday-bl-upper-shipley-intermedia
 te-sport-climbing/
SUMMARY:SUNDAY BL - LOCATION TBC (WAS SHIPLY) [INTERMEDIATE] Sport Climbing
DESCRIPTION:17/3/26 Revamped - The trip is back on! - LOCATION IS TBC\n\n**
 Intermediate Sport Climbing Trip SUNDAY Boree LOG**\n\n&nbsp\;\n\nHi every
 one\, Myself (TL Gabriel)\, and TL TEE will be running an intermediate spo
 rt climbing trip to Upper Shipley\, Blackheath.\n\nThis trip is aimed for 
 people who have are either transitioning\, or compitant in lead climbing. 
 The aim of the day is to further develope lead climbing skills\, look at a
 dvanced lead belaying techniques\, how to safely take a lead fall\, and ge
 neral lead climbing projecting tips and tricks.\n\nRemember to answer the 
 hidden question in your comment!\n\nNote:\n\n“You need to be approved fo
 r the main Boree Log event to attend these trips. Please sign up for only 
 ONE trip per day. If you get rejected you can then sign up for another tri
 p\, this just makes it easier for volunteer trip leaders. Please be aware 
 that as the weather is unpredictable\, trip leaders may need to alter trip
 s accordingly”\n\n&nbsp\;\n\nDetails for the trip\n\n 	Location\n\n 	Upp
 er Shipley - Walls Ledge Track\, Blackheath NSW 2785\n\n\n 	Time\n\n 	TBC 
 (after group packup and campsite is clean)\n\n\n 	Wet Weather Plan\n\n 	Cl
 imbing at an indoor gym on the way back to sydney\n\n\n 	Difficultuy\n\n 	
 The grades vary at the crag\, starting from grade 17\, all the way up to N
 AILS. Just a P.S\, climbing lead is alot harder than top rope. Therefore y
 our max grade may be a few grades lower on lead compared to indoors or out
 doors top rope. Please be mindful of this before signing up.\n\n\n\n&nbsp\
 ;\n\nWhat to bring / What you need - (****) means must have!\n\n 	Harness 
 ***\n 	Atc + locking beiner (or Gri Gri and Lo. beiner) ****\n 	Helmet ***
 *\n 	Sling + locking beiner (personal saftey) ****\n 	Prusic (optional but
  recomended)\n 	Climbing shoes (COMFORTABLE)\n 	Atleast 2L of water ****\n
  	A backpack (with lunch\, snacks and personal items) ****\n 	Appropriate 
 Clothing (MUST BRING A HAT\, the crag can be very sunny) *****\n 	YOUR HAP
 PY FACE\, AND BRAVE MINDSET!\n\nThis gear can be organised on the day / ni
 ght before at boree log\, but if you have personal gear\, (eg rope\, quick
 drawers etc..) it is highly encoraged that you use that\, as gear can be s
 carse on the day.\n\n&nbsp\;\n\nImportant information!\n\nIn the comments 
 below\, please let me know your climbing experience\, (I wont judge I prom
 mise)\, if youll have a car\, how many spaces it has\, and what your opino
 in is on 'socks with climbing shoes'.\n\nSuper keen to see you all there! 
 Bring your best "send" attatude!\n\n 	Gabriel and Tee\n\np.p.s THIS TRIP I
 S SUBJECT TO A CHANGE OF LOCATION AT ANY MOMENT. Stay posted.
CATEGORIES:Boree Log,Climbing,Outdoor Climbing
LOCATION:http://Walls%20Ledge%20Track,%20Blackheath%20NSW%202785
END:VEVENT
BEGIN:VTIMEZONE
TZID:Australia/Sydney
X-LIC-LOCATION:Australia/Sydney
BEGIN:DAYLIGHT
DTSTART:20251005T030000
TZOFFSETFROM:+1000
TZOFFSETTO:+1100
TZNAME:AEDT
END:DAYLIGHT
END:VTIMEZONE
END:VCALENDAR