BEGIN:VCALENDAR
VERSION:2.0
PRODID:-//wp-events-plugin.com//7.2.3.1//EN
TZID:Australia/Sydney
X-WR-TIMEZONE:Australia/Sydney
BEGIN:VEVENT
UID:3750@unswoc.org
DTSTART;TZID=Australia/Sydney:20260322T100000
DTEND;TZID=Australia/Sydney:20260322T170000
DTSTAMP:20260317T032535Z
URL:https://unswoc.org/wordpress/events/sunday-bl-upper-shipley-climbing-b
 eginner-intermediate/
SUMMARY:SUNDAY BL – Mezzaluna Climbing (Changed From Upper Shipley) [Begi
 nner/Intermediate]
DESCRIPTION:Raff and I (Keith) will be running will be running an Beginner/
 Intermediate sport climbing trip to Mezzaluna\, Mt York.\nThis trip is for
  Beginners\, but also those who are looking to push themselves a little fu
 rther. Ideally\, you should have climbed indoors doing top rope and unders
 tand how to belay safely. The aim of the day is to develop your climbing s
 kills\, at whatever level you're at and also to have lots of fun!\n\nRemem
 ber to answer the hidden question in your comment!\n\nNote:\n\n“You need
  to be approved for the main Boree Log event to attend these trips. Please
  sign up for only ONE trip per day. If you get rejected\, you can then sig
 n up for another trip\, this just makes it easier for volunteer trip leade
 rs. Please be aware that as the weather is unpredictable\, trip leaders ma
 y need to alter trips accordingly”\n\n&nbsp\;\n\nDetails for the trip\n\
 n 	Location\n\n 	Mezzaluna – Mt York\n\n\n 	Time\n\n 	TBC (after group p
 ack-up and campsite is clean)\n\n\n 	Wet Weather Plan\n\n 	TBC\n\n\n\n&nbs
 p\;\n\nWhat to bring / What you need – (****) means must have!\n\n 	Harn
 ess ***\n 	Atc + locking carabiner (or Gri Gri and Lo. carabiner) ****\n 	
 Helmet ****\n 	Sling + locking carabiner (personal safety) ****\n 	Prusic 
 (optional but recommended)\n 	Climbing shoes (COMFORTABLE)\n 	At least 2L 
 of water ****\n 	A backpack (with lunch\, snacks and personal items) ****\
 n 	Appropriate Clothing (MUST BRING A HAT\, the crag can be very sunny) **
 ***\n 	YOUR HAPPY FACE\, AND BRAVE MINDSET!\n\nThis group gear can be orga
 nised on the day\, but if you have personal gear (eg rope\, quickdrawers e
 tc..) it is highly encouraged that you use that\, as gear can be scarce on
  the day.\n\n&nbsp\;\n\nImportant information!\n\nIn the comments below\, 
 please let me know your climbing experience (I won't judge\, I promise)\, 
 if you'll have a car\, how many spaces it has\, and the secret question is
  "Which country would taste the best if it were edible".\n\nSuper keen to 
 see you all there! Bring your best “send” attitude!\n\n-Keith &amp\; R
 aff xoxo\n\n\nLeon climbing at Upper Shipley 2025
CATEGORIES:Boree Log,Climbing
LOCATION:https://www.thecrag.com/climbing/australia/blue-mountains/blaxland
 -gully
END:VEVENT
BEGIN:VTIMEZONE
TZID:Australia/Sydney
X-LIC-LOCATION:Australia/Sydney
BEGIN:DAYLIGHT
DTSTART:20251005T030000
TZOFFSETFROM:+1000
TZOFFSETTO:+1100
TZNAME:AEDT
END:DAYLIGHT
END:VTIMEZONE
END:VCALENDAR