BEGIN:VCALENDAR
VERSION:2.0
PRODID:-//wp-events-plugin.com//7.2.3.1//EN
TZID:Australia/Sydney
X-WR-TIMEZONE:Australia/Sydney
BEGIN:VEVENT
UID:3538@unswoc.org
DTSTART;TZID=Australia/Sydney;VALUE=DATE:20250323
DTEND;TZID=Australia/Sydney;VALUE=DATE:20250324
DTSTAMP:20250318T094837Z
URL:https://unswoc.org/wordpress/events/sunday-bl-upper-shipley-beginner-s
 port-climbing/
SUMMARY:SUNDAY BL - UPPER SHIPLEY Beginner Sport Climbing
DESCRIPTION:Hey everyone!\n\nMelissa and I will be running a sport climbing
  trip to Upper Shipley in Blackheath on the Sunday of Boree Log. We'll mos
 t likely start in the Grey Slab area where grades are around 17-20\, and m
 aybe move around depending on how we're going. You can check out the climb
 s here.\n\n\nSending at Shipley!\nWhat to bring:\n\n 	Minimum 2L of water\
 n 	Food for the day\n 	Clothes appropriate for climbing (should be comfort
 able\, allow unrestricted movement\, and be alright if they get dirty/torn
 )\n 	Sunscreen\n 	Warm weather gear incase it gets cold\n 	Day backpack to
  carry your belongings\n 	Climbing harness\n 	Climbing helmet\n 	Climbing 
 shoes\n 	Belay device (eg ATC) and locking carabiner\n\nItems in bold ca
 n be borrowed on the day if you do not have your own. You DO NOT need to c
 ollect them from the gear cupboard prior to Boree Log.\n\n&nbsp\;\n\nYou n
 eed to be approved for the main Boree Log event to attend these trips. Ple
 ase sign up for only ONE trip per day. If you get rejected you can then si
 gn up for another trip\, this just makes it easier for volunteer trip lead
 ers. Please be aware that as the weather is unpredictable\, trip leaders m
 ay need to alter trips accordingly\n\nIn your comment please let us know y
 our climbing experience\, if you have a car and how many people you can ta
 ke\, and how many litres of lemonade you think you could chug in one minut
 e.\n\nIf you have any questions feel free to contact me.\n\nSee you there!
 \n\nSophia and Melissa\n\n&nbsp\;
CATEGORIES:Boree Log,Climbing,Outdoor Climbing
LOCATION:https://www.google.com/maps/place/Centennial+Glen+Carpark/@-33.638
 7745,150.2751494,18z/data=!4m6!3m5!1s0x6b1272722334c271:0x3a170445f0dd4694
 !8m2!3d-33.6388351!4d150.2754888!16s%2Fg%2F11hb8hs_66?entry=ttu&g_ep=EgoyM
 DI1MDIyNC4wIKXMDSoASAFQAw%3D%3D
END:VEVENT
BEGIN:VTIMEZONE
TZID:Australia/Sydney
X-LIC-LOCATION:Australia/Sydney
BEGIN:DAYLIGHT
DTSTART:20241006T030000
TZOFFSETFROM:+1000
TZOFFSETTO:+1100
TZNAME:AEDT
END:DAYLIGHT
END:VTIMEZONE
END:VCALENDAR