BEGIN:VCALENDAR
VERSION:2.0
PRODID:-//wp-events-plugin.com//7.2.3.1//EN
TZID:Australia/Sydney
X-WR-TIMEZONE:Australia/Sydney
BEGIN:VEVENT
UID:3490@unswoc.org
DTSTART;TZID=Australia/Sydney;VALUE=DATE:20241013
DTEND;TZID=Australia/Sydney;VALUE=DATE:20241014
DTSTAMP:20240930T054113Z
URL:https://unswoc.org/wordpress/events/sunday-bl-twister-rocky-beginner-c
 anyon/
SUMMARY:[FULL] SUNDAY BL - TWISTER/ROCKY - Beginner Canyon
DESCRIPTION:Hey everyone\, Bojana and I will be running a trip through Twis
 ter and rocky canyon! That's right\, 2 canyons for the price of one! It's 
 honestly one of my favourite canyoning trips in the mountains!!\n\n&nbsp\;
 \n\n\n\n&nbsp\;\n\nBoth canyons have no abseils but are jam packed with fu
 n jumps\, slides\, and beautiful sandstone slots. This is a perfect first 
 canyon (or hungover activity).\n\nWhat we'll be doing:\n\nWalk 500 m to Tw
 ister Creek\nSwim\, jump and slide our way through Twister\nWalk 500 m mor
 e to the start of Rocky Creek\nExplore Rocky Creek\nReverse back up Rocky 
 creek\nWalk 1.2 km back to the cars\n\nWhat to bring:\n\nFood (lunch\, sna
 cks for a days exercise)\nWater (2L)\nOld sneakers or other grippy shoes t
 hat may get trashed\nWetsuit*\nHelmet*\nDry bag*\nEmergency blanket*\nA se
 t of dry clothes to walk in/out with\nThermals and a jumper (to stay warm 
 in an emergency)\n(Optional) canyon bag*\n\n*Can be borrowed from the club
 . We will bring all the gear to Boree Log. Emergency blankets are an excep
 tion but can be bought from the club or a chemist for $5.\n\nIf you are ke
 en please sign up! Again it's a great first canyoning experience! Also tel
 l me your favourite flower in the signups\, as well as if you have a car.
CATEGORIES:Canyoning
LOCATION:https://maps.app.goo.gl/wPtV7SffZvfH2sV59
END:VEVENT
BEGIN:VTIMEZONE
TZID:Australia/Sydney
X-LIC-LOCATION:Australia/Sydney
BEGIN:DAYLIGHT
DTSTART:20241006T030000
TZOFFSETFROM:+1000
TZOFFSETTO:+1100
TZNAME:AEDT
END:DAYLIGHT
END:VTIMEZONE
END:VCALENDAR