BEGIN:VCALENDAR
VERSION:2.0
PRODID:-//wp-events-plugin.com//7.2.3.1//EN
TZID:Australia/Sydney
X-WR-TIMEZONE:Australia/Sydney
BEGIN:VEVENT
UID:3376@unswoc.org
DTSTART;TZID=Australia/Sydney;VALUE=DATE:20240317
DTEND;TZID=Australia/Sydney;VALUE=DATE:20240318
DTSTAMP:20240312T100032Z
URL:https://unswoc.org/wordpress/events/sunday-bl-twister-and-rocky-canyon
 -beginner-canyon/
SUMMARY:FULL - SUNDAY BL - TWISTER AND ROCKY Beginner Canyon
DESCRIPTION:Hey all\, come join Crispy and I (Daniel) in my favourite non-a
 bseiling canyon! We'll be doing two canyons that are right next to each ot
 her (15 min walk between). Twister is nature's own waterpark\, filled with
  jumps and slides! We then head into the beautiful Rocky Creek for an amaz
 ing 10/10 canyon slot. These canyons are both short\, which will give us p
 lenty of time to take it chill and enjoy playing around in the water!\n\nT
 he full canyon notes can be found here:\n\nhttps://ozultimate.com/canyonin
 g/track_notes/twister.htm\n\nhttps://ozultimate.com/canyoning/track_notes/
 rocky_creek.htm\n\n[caption id="attachment_16114" align="alignnone" width=
 "1024"] Unrelated photo of Nadav[/caption]\n\n&nbsp\;\n\nPlease write down
  in the comments if you have a car and you are ok driving on fire trail (2
 WD friendly)\, your canyoning experience\, and your favourite jump rock.\n
 \n&nbsp\;\n\nWHAT TO BRING:\n\n 	Dry bag*\n 	Helmet*\n 	Enclosed shoes tha
 t you can walk in while wet\n 	Warm socks (not cotton!!)\n 	Wetsuit* (Mini
 mum 3mm\, recommended 5mm)\n 	Shorts to go over and protect your wetsuit\n
  	Water (at least 1.5L)\n 	Headtorch\n 	Emergency blanket (can be purchase
 d from the club for $5)\n 	Warm clothes (bring a dry set of thermals to go
  in the drybag\, not cotton!!)\n 	Backpack that will fit all your gear and
  can get wet\n 	Food to last the whole day (including some snacks to have 
 on the go!)\n\n*Can borrow from the club\, we will bring all the gear to B
 oree Log\n\n&nbsp\;\n\n&nbsp\;
CATEGORIES:Boree Log,Canyoning
LOCATION:https://maps.app.goo.gl/V5PitPxAUTucs4Xz6
END:VEVENT
BEGIN:VTIMEZONE
TZID:Australia/Sydney
X-LIC-LOCATION:Australia/Sydney
BEGIN:DAYLIGHT
DTSTART:20231001T030000
TZOFFSETFROM:+1000
TZOFFSETTO:+1100
TZNAME:AEDT
END:DAYLIGHT
END:VTIMEZONE
END:VCALENDAR