BEGIN:VCALENDAR
VERSION:2.0
PRODID:-//wp-events-plugin.com//7.2.3.1//EN
TZID:Australia/Sydney
X-WR-TIMEZONE:Australia/Sydney
BEGIN:VEVENT
UID:2389@unswoc.org
DTSTART;VALUE=DATE:20190324
DTEND;VALUE=DATE:20190325
DTSTAMP:20190312T124713Z
URL:https://unswoc.org/wordpress/events/sunday-bl-traditional-climbing/
SUMMARY:Sunday BL - traditional climbing
DESCRIPTION:You must be approved for Boree Log to attend this trip!\n\nOn t
 he Sunday of Boree Log myself\, Jack\, Cameron(?) and Mac (I hope!) are go
 ing getting some rad trad action. For anyone new to outdoor climbing\, tra
 d climbing involved placing your own gear in the rock for protection. We'l
 l finalise the location on Sunday morning\, when we know what the weather'
 s doing :) People with outdoor climbing experience will be given preferenc
 e for this trip.\n\nYou will need\n\n 	3 L water\, the crag will be in the
  sun all day\n 	Food\n 	Comfortable shoes to walk in\n 	Climbing shoes\, c
 halk and climbing tape can be useful\n 	Pack to put things in\n 	Jacket/wa
 rm clothing in case it gets cold\n 	sunscreen\n 	Helmet*\n 	Harness*\n 	Be
 lay device* with locking carabiner*\n\n*club has limited supplies that can
  be borrowed\n\n\n\nPlease let us know your experience in the comments box
 \, whether you've got a car and your favourite item of climbing gear to be
  consider for this trip :)
CATEGORIES:Outdoor Climbing
END:VEVENT
END:VCALENDAR