BEGIN:VCALENDAR
VERSION:2.0
PRODID:-//wp-events-plugin.com//7.2.3.1//EN
TZID:Australia/Sydney
X-WR-TIMEZONE:Australia/Sydney
BEGIN:VEVENT
UID:3018@unswoc.org
DTSTART;TZID=Australia/Sydney:20220515T090000
DTEND;TZID=Australia/Sydney:20220515T170000
DTSTAMP:20220505T152730Z
URL:https://unswoc.org/wordpress/events/sunday-bl-trad-climbing-mt-pidding
 ton/
SUMMARY:SUNDAY BL – Trad Climbing - Mt Piddington
DESCRIPTION:“You need to be approved for the main Boree Log event to atte
 nd these trips. Please\nsign up for only ONE trip per day. If you get reje
 cted you can then sign up for another trip\,\nthis just makes it easier fo
 r volunteer trip leaders.\nPlease be aware that as the weather is unpredic
 table\, trip leaders may need to alter trips\naccordingly”\n\n&nbsp\;\n\
 n&nbsp\;\n\n\n\n\nHey everyone!\n\nNicolas Di Campli and I will be leading
  a beginner-friendly trip to Mt Piddington. This is a lovely crag in a pea
 ceful bush setting perfect for beginner and intermediate climbers!\n\n\n\n
 \n\n\n\n\n\n\nNo climbing experience is required\, but you will need:\n\n 
 	Climbing gear: A harness*\, helmet*\, climbing shoes* and chalk bag (* =
  could be borrowed from the club).\n 	For clothing: Sport clothes. It can
  get quite hot or quite chilly\, so be prepared for both.\n 	For sustenanc
 e: 2L of water\, food or snacks\, and chocolate for trip leaders.\n 	Other
  gear: Sunscreen\, medicines if you need them (asthma puffer\, etc).\n\nP
 lease write down what gear you need\, your experience\, and whether you 
 want to learn to climb trad. \n\n\n\n\n\nFeel free to message Nic or I if
  you have any questions.
END:VEVENT
BEGIN:VTIMEZONE
TZID:Australia/Sydney
X-LIC-LOCATION:Australia/Sydney
BEGIN:STANDARD
DTSTART:20220403T020000
TZOFFSETFROM:+1100
TZOFFSETTO:+1000
TZNAME:AEST
END:STANDARD
END:VTIMEZONE
END:VCALENDAR