BEGIN:VCALENDAR
VERSION:2.0
PRODID:-//wp-events-plugin.com//7.2.3.1//EN
TZID:Australia/Sydney
X-WR-TIMEZONE:Australia/Sydney
BEGIN:VEVENT
UID:3231@unswoc.org
DTSTART;TZID=Australia/Sydney;VALUE=DATE:20230319
DTEND;TZID=Australia/Sydney;VALUE=DATE:20230320
DTSTAMP:20230313T000820Z
URL:https://unswoc.org/wordpress/events/sunday-bl-trad-climbing-mt-pidding
 ton-2/
SUMMARY:[FULL] SUNDAY BL – Trad Climbing - Mt Piddington
DESCRIPTION:&nbsp\;\n\n\n\n\nHey everyone!\n\n\nPat and I (Daniel) will be 
 leading a beginner-friendly trip to Mt Piddington. This is a lovely crag i
 n a peaceful bush setting perfect for beginner and intermediate climbers!\
 n\n\n\n\n\n\n\n\n\n\nNo climbing experience is required\, but you will nee
 d:\n\n 	Climbing gear: A harness*\, helmet*\, climbing shoes* and chalk b
 ag (* = could be borrowed from the club).\n 	For clothing: Sport clothes.
  It can get quite hot or quite chilly\, so be prepared for both.\n 	For su
 stenance: 2L of water\, food or snacks\, and chocolate for trip leaders.\n
  	Other gear: Sunscreen\, medicines if you need them (asthma puffer\, etc
 ).\n\n&nbsp\;\n\n\nYou must be approved to the main Boree Log event to att
 end these trips. If you get rejected then you can sign up for another trip
 \, this just makes it easier for volunteer trip leaders. Please be aware t
 hat as the weather is unpredictable\, trip leaders may need to alter trips
  accordingly.\n\n&nbsp\;\n\n\nPlease write down what gear you need\, your
  experience\, and whether you want to learn to climb trad. \n\n\n\n\n\nF
 eel free to message Pat or I if you have any questions.
CATEGORIES:Climbing,Outdoor Climbing
END:VEVENT
BEGIN:VTIMEZONE
TZID:Australia/Sydney
X-LIC-LOCATION:Australia/Sydney
BEGIN:DAYLIGHT
DTSTART:20221002T030000
TZOFFSETFROM:+1000
TZOFFSETTO:+1100
TZNAME:AEDT
END:DAYLIGHT
END:VTIMEZONE
END:VCALENDAR