BEGIN:VCALENDAR
VERSION:2.0
PRODID:-//wp-events-plugin.com//7.2.3.1//EN
TZID:Australia/Sydney
X-WR-TIMEZONE:Australia/Sydney
BEGIN:VEVENT
UID:2545@unswoc.org
DTSTART;TZID=Australia/Sydney;VALUE=DATE:20191027
DTEND;TZID=Australia/Sydney;VALUE=DATE:20191028
DTSTAMP:20191015T223209Z
URL:https://unswoc.org/wordpress/events/sunday-bl-trad-climbing-el-dorado/
SUMMARY:Sunday BL - Trad Climbing - El Dorado
DESCRIPTION:You must be approved for Boree Log to attend this trip!\n\nOn t
 he Sunday of Boree Log myself (Tadeh) and Julie are going deep into the ju
 ngles in the search for El Dorado to find golden cracks for climbing. For 
 anyone new to outdoor climbing\, trad climbing involves placing your own g
 ear in the rock for protection\, so there are no permanent fixed bolts in 
 the rock.\n\nWe are happy to teach you the fundamentals of trad climbing b
 ut people with outdoor climbing experience will be given preference for th
 is trip. Ideally you can lead climb around grade 17-19. We will bring alon
 g trad racks but bring your own gear if you have any.\n\nYou will need\n\n
  	2 L water (MINIMUM)\n 	Food\n 	Comfortable shoes to walk in\n 	Climbing 
 shoes\, chalk and climbing tape can be useful\n 	Backpack\n 	Jacket/warm c
 lothing in case it gets cold\n 	sunscreen\n 	Helmet*\n 	Harness*\n 	Belay 
 device* with locking carabiner*\n\n*club has limited supplies that can be 
 borrowed\n\n&nbsp\;\n\nPlease let us know your experience in the comments 
 box\, whether you've got a car and your favourite climbing brand to be con
 sider for this trip :)
CATEGORIES:Outdoor Climbing
END:VEVENT
BEGIN:VTIMEZONE
TZID:Australia/Sydney
X-LIC-LOCATION:Australia/Sydney
BEGIN:DAYLIGHT
DTSTART:20191006T030000
TZOFFSETFROM:+1000
TZOFFSETTO:+1100
TZNAME:AEDT
END:DAYLIGHT
END:VTIMEZONE
END:VCALENDAR