BEGIN:VCALENDAR
VERSION:2.0
PRODID:-//wp-events-plugin.com//7.2.3.1//EN
TZID:Australia/Sydney
X-WR-TIMEZONE:Australia/Sydney
BEGIN:VEVENT
UID:2561@unswoc.org
DTSTART;TZID=Australia/Sydney;VALUE=DATE:20191027
DTEND;TZID=Australia/Sydney;VALUE=DATE:20191028
DTSTAMP:20191023T031801Z
URL:https://unswoc.org/wordpress/events/sunday-bl-trad-climbing-at-coke-ov
 ens/
SUMMARY:Sunday BL - Beginner/intermediate trad climbing at Coke Ovens
DESCRIPTION:Ah the Wolgan. What a place to get inspired for climbing! With 
 mega cliffs in every direction from the campsite you'lol be absolutely fro
 thing by Sunday. So come join Jeffrey and I for an awesome day on the rock
 .\n\nWe've chosen the Coke Ovens as the destination crag\, but this is sub
 ject to change depending on weather because it will be very hot. It will b
 e a ~50 minute walk out of the campsite.\n\nWe'll be setting up some topro
 pes on a few of the classics there so this trip is open to beginners. It's
  a perfect opportunity if you want to try out the dark art of crack climbi
 ng. If you have a bit more experience leading/lead belaying sport then the
 re is also the potential for some mock-leading as well.\n\nIf you want to 
 come\, make sure you've been approved for the boree log event. Sign up wit
 h how keen you are\, your experience\, the number of cars you own and your
  favourite jam in the comments. Send us a message on fb if you're real kee
 n.\n\nGear List:\n\nWater (minimum 1.5L - it will be v hot)\n\nLunch\n\nSu
 nscreen\n\nHat\n\nHarness\n\natc + biner\n\nClimbing shoes\n\nChalk\n\nA l
 arge backpack to carry the above plus communal gear. Note that side effect
 s of brining a backpack that is too small may include public ridicule.\n\n
 see ya there :)
CATEGORIES:Outdoor Climbing
END:VEVENT
BEGIN:VTIMEZONE
TZID:Australia/Sydney
X-LIC-LOCATION:Australia/Sydney
BEGIN:DAYLIGHT
DTSTART:20191006T030000
TZOFFSETFROM:+1000
TZOFFSETTO:+1100
TZNAME:AEDT
END:DAYLIGHT
END:VTIMEZONE
END:VCALENDAR