BEGIN:VCALENDAR
VERSION:2.0
PRODID:-//wp-events-plugin.com//7.2.3.1//EN
TZID:Australia/Sydney
X-WR-TIMEZONE:Australia/Sydney
BEGIN:VEVENT
UID:3343@unswoc.org
DTSTART;TZID=Australia/Sydney;VALUE=DATE:20231015
DTEND;TZID=Australia/Sydney;VALUE=DATE:20231016
DTSTAMP:20231009T040612Z
URL:https://unswoc.org/wordpress/events/sunday-bl-tianjara-falls-sport-cli
 mbing/
SUMMARY:[FULL] SUNDAY BL - Tianjara Falls Sport Climbing
DESCRIPTION:You need to be approved for the main Boree Log event to attend 
 these trips. Please sign up for only ONE trip per day. If you get rejected
  you can then sign up for another trip. Please be aware that as the weathe
 r is unpredictable\, trip leaders may need to alter trips accordingly\nLuc
 as Low and I (Pat) are running a beginner friendly sport climbing trip to 
 Tianjara Falls in Nowra on the Sunday of Boree log. Tianjara falls is a re
 ally pretty spot with some lovely easy-moderate climbs to hop on: you can 
 check out the area here. We'll be setting up topropes and are happy to tea
 ch skills like top rope belaying\, lead climbing and belaying\, anchor cle
 aning or any others really.\n\nWe'll meet on Sunday morning and organise t
 he carpooling. At the end of the day\, we'll head straight back to Sydney.
 \n\nMost gear is provided from the trailer including a harness\, helmet\, 
 safety sling (if you're interested in learning how to lead climb/clean)\, 
 locking carabiners\, belay device but you'll need to bring:\n\n 	Sunscreen
 \n 	2L water (stay hydrated!)\n 	Food\, snacks to share\n 	Comfy clothes a
 nd shoes\n 	Warm jacket (in case it gets cool)\n 	Medication if required\n
  	Bag to carry everything in\n\nOptional to bring (but highly recommended)
 :\n\n 	Climbing shoes\, chalk bag\n\nIn the comments please let us know yo
 ur climbing experience (indoor/outdoor\, grades\, ability to lead climb/be
 lay)\, if you have a car and how many spots you have\, your favourite flow
 er and if you've done an early vote for the Referendum (only applicable to
  Australian Citizens). If you've got any questions or concerns feel free t
 o message Lucas or I on Facebook!\n\nThanks :)
LOCATION:https://www.google.com/maps/place/35%C2%B006'32.8%22S+150%C2%B019'
 58.8%22E/@-35.1089727,150.3315338,436m/data=!3m1!1e3!4m4!3m3!8m2!3d-35.109
 1111!4d150.333?entry=tts
END:VEVENT
BEGIN:VTIMEZONE
TZID:Australia/Sydney
X-LIC-LOCATION:Australia/Sydney
BEGIN:DAYLIGHT
DTSTART:20231001T030000
TZOFFSETFROM:+1000
TZOFFSETTO:+1100
TZNAME:AEDT
END:DAYLIGHT
END:VTIMEZONE
END:VCALENDAR