BEGIN:VCALENDAR
VERSION:2.0
PRODID:-//wp-events-plugin.com//7.2.3.1//EN
TZID:Australia/Sydney
X-WR-TIMEZONE:Australia/Sydney
BEGIN:VEVENT
UID:3329@unswoc.org
DTSTART;TZID=Australia/Sydney;VALUE=DATE:20231015
DTEND;TZID=Australia/Sydney;VALUE=DATE:20231016
DTSTAMP:20231010T035322Z
URL:https://unswoc.org/wordpress/events/sunday-bl-tianjara-falls-nowra-spo
 rt-climbing/
SUMMARY:[FULL] SUNDAY BL - THOMPSONS POINT\, NOWRA Intermediate Sport Climb
 ing
DESCRIPTION:You need to be approved for the main Boree Log event to attend 
 these trips. Please sign up for only ONE trip per day. If you get rejected
  you can then sign up for another trip\, this just makes it easier for vol
 unteer trip leaders. Please be aware that as the weather is unpredictable\
 , trip leaders may need to alter trips accordingly\nHowdy!\n\nPeta\, Jayde
 n and I (Jemma) are running an intermediate sport climbing trip to Thompso
 ns Point in Nowra on the Sunday of Boree log. Thompsons Point is a super c
 ool climbing spot\, feel free to check it out on the Crag and pick out som
 e climbs you might be keen to do. Anyone is welcome to join\, but because 
 there are a few trips running on Sunday to the same spot\, we'll try not t
 o crowd the easier climbs and aim for an area with some slightly higher gr
 ades. We're gonna look for some grade 17s and above to climb on. If you're
  comfortable climbing 18s and above indoors then this trip will suit you w
 ell. All good if not though - always good to climb harder than you think y
 ou can to push yourself!\n\nWe'll meet by the trailer at the campground on
  Sunday morning and carpool to Thompsons Point. At the end of the day we'l
 l head straight back to Sydney.\n\nMost gear is provided from the trailer 
 including a harness\, helmet\, safety sling\, locking carabiners\, belay d
 evice but you'll need to bring:\n\n 	Sunscreen\n 	2L water (stay hydrated!
 )\n 	Food\, snacks to share\n 	Comfy clothes and shoes\n 	Warm jacket\n 	M
 edication if required\n\nOptional to bring:\n\n 	Climbing shoes\, chalk ba
 g\n\nIn the comments please let us know your climbing experience (indoor/o
 utdoor\, grades\, ability to lead climb/belay)\, if you have a car and how
  many spots you have\, your favorite dessert and if you've done an early v
 ote for the Referendum (only applicable to Australian Citizens)\n\nKeen to
  send yew! 🤠
CATEGORIES:Boree Log,Climbing,Outdoor Climbing
LOCATION:https://www.google.com/maps/dir/-33.7680141,151.1752784/-34.87222,
 150.576179/@-34.3100941,150.2306384,9z/data=!3m1!4b1!4m4!4m3!1m1!4e1!1m0?e
 ntry=ttu
END:VEVENT
BEGIN:VTIMEZONE
TZID:Australia/Sydney
X-LIC-LOCATION:Australia/Sydney
BEGIN:DAYLIGHT
DTSTART:20231001T030000
TZOFFSETFROM:+1000
TZOFFSETTO:+1100
TZNAME:AEDT
END:DAYLIGHT
END:VTIMEZONE
END:VCALENDAR