BEGIN:VCALENDAR
VERSION:2.0
PRODID:-//wp-events-plugin.com//7.2.3.1//EN
TZID:Australia/Sydney
X-WR-TIMEZONE:Australia/Sydney
BEGIN:VEVENT
UID:3338@unswoc.org
DTSTART;TZID=Australia/Sydney;VALUE=DATE:20231015
DTEND;TZID=Australia/Sydney;VALUE=DATE:20231016
DTSTAMP:20231011T054709Z
URL:https://unswoc.org/wordpress/events/sunday-bl-thompsons-point-nowra-sp
 ort-climbing/
SUMMARY:[FULL] SUNDAY BL - Thompson's Point\, Nowra\, Sport Climbing
DESCRIPTION:You need to be approved for the main Boree Log event to attend 
 these trips. Please sign up for only ONE trip per day. If you get rejected
  you can then sign up for another trip. Please be aware that as the weathe
 r is unpredictable\, trip leaders may need to alter trips accordingly\nAme
 lia K\, myself (Aaron) and Bennett are running a beginner friendly sport c
 limbing trip to Thompson's Point in Nowra on the Sunday of Boree log. Nowr
 a is a super cool climbing spot\, feel free to check it out on the Crag an
 d pick out some climbs you might be keen to do.\n\nWe'll meet on Sunday mo
 rning and organise the carpooling. At the end of the day\, we'll head stra
 ight back to Sydney.\n\nMost gear is provided from the trailer including a
  harness\, helmet\, safety sling (if you're interested in learning how to 
 lead climb/clean)\, locking carabiners\, belay device but you'll need to b
 ring:\n\n 	Sunscreen\n 	2L water (stay hydrated!)\n 	Food\, snacks to shar
 e\n 	Comfy clothes and shoes\n 	Warm jacket (in case it gets cool)\n 	Medi
 cation if required\n 	Bag to carry everything in\n\nOptional to bring:\n\n
  	Climbing shoes\, chalk bag\n\nIn the comments please let us know your cl
 imbing experience (indoor/outdoor\, grades\, ability to lead climb/belay)\
 , if you have a car and how many spots you have\, your favourite fruit and
  if you've done an early vote for the Referendum (only applicable to Austr
 alian Citizens)\n\nThanks :)
CATEGORIES:Boree Log,Climbing,Outdoor Climbing
LOCATION:https://www.google.com/maps/dir/?api=1&destination=-34.872220,150.
 576179
END:VEVENT
BEGIN:VTIMEZONE
TZID:Australia/Sydney
X-LIC-LOCATION:Australia/Sydney
BEGIN:DAYLIGHT
DTSTART:20231001T030000
TZOFFSETFROM:+1000
TZOFFSETTO:+1100
TZNAME:AEDT
END:DAYLIGHT
END:VTIMEZONE
END:VCALENDAR